BEGIN:VCALENDAR
VERSION:2.0
PRODID:-//ChamberMaster//Event Calendar 2.0//EN
METHOD:PUBLISH
X-PUBLISHED-TTL:P3D
REFRESH-INTERVAL:P3D
CALSCALE:GREGORIAN
BEGIN:VEVENT
DTSTART:20170509T183000Z
DTEND:20170509T200000Z
X-MICROSOFT-CDO-ALLDAYEVENT:FALSE
SUMMARY:Good Afternoon Long Beach 05/09/17
DESCRIPTION:Each of the attendees will have 30 seconds to present an introduction to their business. So have your best elevator pitch ready and bring plenty of business cards.  Hope to see you there!\n\n\n\nFeatured Speaker: Nate Trimmer - Omnibeat Nate helps forward thinking clients utilize the digital marketing through social media to harness business opportunities. Are you ready to 'Catch the Wave'? For the past 7 years\, Nate has helped small and medium sized businesses retain clients and reach new clients by sharing their story online. Outstanding Digital Marketing proves to be a perfect conduit for expanding the reach of almost any business.
X-ALT-DESC;FMTTYPE=text/html:Each of the attendees will have 30 seconds to&nbsp\;present an introduction to their business. So have your best&nbsp\;elevator pitch ready and bring plenty of business cards. &nbsp\;Hope to see you there!<br />\n<br />\n<strong>Featured Speaker: Nate Trimmer - Omnibeat</strong> Nate helps forward thinking clients utilize the digital marketing through social media to harness business opportunities. Are you ready to &#39\;Catch the Wave&#39\;? For the past 7 years\, Nate has helped small and medium sized businesses retain clients and reach new clients by sharing their story online. Outstanding Digital Marketing proves to be a perfect conduit for expanding the reach of almost any business.
LOCATION:Parkers' Lighthouse 435 Shoreline Village Dr Long Beach\, CA 90802
UID:e.1956.3095
SEQUENCE:3
DTSTAMP:20260419T180856Z
URL:https://business.lbchamber.com/events/details/good-afternoon-long-beach-05-09-17-3095
END:VEVENT

END:VCALENDAR
