BEGIN:VCALENDAR
VERSION:2.0
PRODID:-//ChamberMaster//Event Calendar 2.0//EN
METHOD:PUBLISH
X-PUBLISHED-TTL:P3D
REFRESH-INTERVAL:P3D
CALSCALE:GREGORIAN
BEGIN:VEVENT
DTSTART:20160412T183000Z
DTEND:20160412T200000Z
X-MICROSOFT-CDO-ALLDAYEVENT:FALSE
SUMMARY:Good Afternoon Long Beach 041216
DESCRIPTION:"Long Beach CaLL and Internships"\n\n\n\nPlease join us as our featured speaker will be Phil Davis\, a CaLL Board Member and Assistant Superintendent of LBUSD.\n\n \nMr. Davis is a Board Member of the Long Beach Call (LBCaLL)\; an organization developed to provide students with Work Based Learning experiences such as internships\, job shadowing opportunities and teacher externships in high school (LBUSD)\, college (LBCC) and university (CSULB) in a joint effort with business and non-profit partners.  Our goal is enlisting the support of business and community partners to provide students an opportunity to experience the workforce in a variety of ways\, so they are college and career ready.\n\n \n\nHe is also the Assistant Superintendent of High Schools for Long Beach Unified School District (LBUSD).  Mr. Davis provides supervision and support to the six comprehensive high schools\, three themed high schools and three alternative education high schools focusing on Industry Pathways\, algebra success rates\, number of students graduating\, curriculum development and implementation of Common Core through Link Learning.\n\n \n\nMr. Davis has over twenty five years' experience in education as a high school teacher and administrator in middle and high school.  Mr. Davis has also taught teaching method classes at California State University\, Dominguez Hills.
X-ALT-DESC;FMTTYPE=text/html:<b><i>&quot\;Long Beach CaLL and Internships&quot\;</i></b><br />\n<br />\nPlease join us as our featured speaker will be Phil Davis\, a&nbsp\;CaLL Board Member and Assistant Superintendent of LBUSD.<br />\n&nbsp\;\n<p dir="ltr" style="line-height:1.3800000000000001\;margin-top:0pt\;margin-bottom:10pt\;"><span style="layout-grid-mode:line\;"><span style="color:black\;"><span style="font-family:arial\,sans-serif\;">Mr. Davis is a Board Member of the Long Beach Call (LBCaLL)\; an organization developed to provide students with Work Based Learning experiences such as internships\, job shadowing opportunities and teacher externships in high school (LBUSD)\, college (LBCC) and university (CSULB) in a joint effort with business and non-profit partners.&nbsp\; Our goal is enlisting the support of business and community partners to provide students an opportunity to experience the workforce in a variety of ways\, so they are college and career ready.</span></span></span><br />\n&nbsp\;<br />\n<span style="layout-grid-mode:line\;"><span style="color:black\;"><span style="font-family:arial\,sans-serif\;">He is also the Assistant Superintendent of High Schools for Long Beach Unified School District (LBUSD). &nbsp\;Mr. Davis provides supervision and support to the six comprehensive high schools\, three themed high schools and three alternative education high schools focusing on Industry Pathways\, algebra success rates\, number of students graduating\, curriculum development and implementation of Common Core through Link Learning.</span></span></span><br />\n&nbsp\;<br />\n<span style="layout-grid-mode:line\;"><span style="color:black\;"><span style="font-family:arial\,sans-serif\;">Mr. Davis has over twenty five years&rsquo\; experience in education as a high school teacher and administrator in middle and high school.&nbsp\; Mr. Davis has also taught teaching method classes at California State University\, Dominguez Hills.&nbsp\;</span></span></span><br />\n&nbsp\;</p>\n\n<div>&nbsp\;</div>\n
LOCATION:Parkers' Lighthouse 435 Shoreline Village Drive Long Beach\, CA 90802
UID:e.1956.2596
SEQUENCE:3
DTSTAMP:20260420T130940Z
URL:https://business.lbchamber.com/events/details/good-afternoon-long-beach-041216-04-12-2016-2596
END:VEVENT

END:VCALENDAR
