BEGIN:VCALENDAR
VERSION:2.0
PRODID:-//ChamberMaster//Event Calendar 2.0//EN
METHOD:PUBLISH
X-PUBLISHED-TTL:P3D
REFRESH-INTERVAL:P3D
CALSCALE:GREGORIAN
BEGIN:VEVENT
DTSTART:20170314T183000Z
DTEND:20170314T200000Z
X-MICROSOFT-CDO-ALLDAYEVENT:FALSE
SUMMARY:Good Afternoon Long Beach 031417
DESCRIPTION:Get to know your fellow business members!\n\n\nEach of the attendees will have 30 seconds to present an introduction to their business. So have your best elevator pitch ready and bring plenty of business cards. Hope to see you there!\n\n\n\n\nFeaturing a special presentation from TrivWorks founder\, David Jacobson.  TrivWorks specializes in excellent live trivia entertainment for corporate events.  Learn more at http://trivworks.com
X-ALT-DESC;FMTTYPE=text/html:<div class="MainText" data-gcf-font-size="10pt" style="color: rgb(64\, 63\, 66)\; font-family: Helvetica\, Calibri\, Arial\, sans-serif\; font-size: 13.3333px\;"><br />\n<em><strong>Get to know your fellow business members!</strong></em></div>\n\n<div style="color: rgb(64\, 63\, 66)\; font-family: Helvetica\, Calibri\, Arial\, sans-serif\; font-size: 13.3333px\;">\n<div class="MainText" data-gcf-font-size="10pt" style="font-size: 10pt\;">Each of the attendees will have 30 seconds to present an introduction to their business. So have your best elevator pitch ready and bring plenty of business cards. Hope to see you there!</div>\n</div>\n\n<div><br />\nFeaturing a special presentation from TrivWorks founder\, David Jacobson. &nbsp\;TrivWorks specializes in excellent live trivia entertainment for corporate events. &nbsp\;Learn more at <a href="http://www.trivworks.com">http://trivworks.com&nbsp\;</a></div>\n
LOCATION:Parkers' Lighthouse 435 Shoreline Village Drive Long Beach\, CA 90802
UID:e.1956.2607
SEQUENCE:3
DTSTAMP:20260419T203914Z
URL:https://business.lbchamber.com/events/details/good-afternoon-long-beach-031417-2607
END:VEVENT

END:VCALENDAR
