BEGIN:VCALENDAR
VERSION:2.0
PRODID:-//ChamberMaster//Event Calendar 2.0//EN
METHOD:PUBLISH
X-PUBLISHED-TTL:P3D
REFRESH-INTERVAL:P3D
CALSCALE:GREGORIAN
BEGIN:VEVENT
DTSTART:20160308T193000Z
DTEND:20160308T210000Z
X-MICROSOFT-CDO-ALLDAYEVENT:FALSE
SUMMARY:Good Afternoon Long Beach 030816
DESCRIPTION:"City of Long Beach Revenues and Challenges"\n\n\n\nFeatured speakers:\n\nTom Modica - Assistant City Manager\n\nRobert Luna - Chief of Police\n\nMike DuRee - Fire Chief\n\n\n\nRegister and pay online at http://www.lbchamber.com/galb or send your RSVP to info@lbchamber.com or call (562) 436-1251
X-ALT-DESC;FMTTYPE=text/html:<p><strong><em>&quot\;City of Long Beach Revenues and Challenges&quot\;</em></strong><br />\n<br />\nFeatured speakers:<br />\nTom Modica - Assistant City Manager<br />\nRobert Luna - Chief of Police<br />\nMike DuRee - Fire Chief<br />\n<br />\nRegister and pay online at http://www.lbchamber.com/galb or send your RSVP to info@lbchamber.com or call (562)&nbsp\;436-1251</p>\n
LOCATION:Parkers' Lighthouse 435 Shoreline Village Drive Long Beach\, CA 90802
UID:e.1956.2595
SEQUENCE:3
DTSTAMP:20260420T143637Z
URL:https://business.lbchamber.com/events/details/good-afternoon-long-beach-030816-03-08-2016-2595
END:VEVENT

END:VCALENDAR
