BEGIN:VCALENDAR
VERSION:2.0
PRODID:-//ChamberMaster//Event Calendar 2.0//EN
METHOD:PUBLISH
X-PUBLISHED-TTL:P3D
REFRESH-INTERVAL:P3D
CALSCALE:GREGORIAN
BEGIN:VEVENT
DTSTART:20150310T183000Z
DTEND:20150310T200000Z
X-MICROSOFT-CDO-ALLDAYEVENT:FALSE
SUMMARY:Good Afternoon Long Beach
DESCRIPTION:Kim Parker is the President and CEO of the California Employers Association (CEA).  CEA is a not for profit human resource association\, established in 1937\, that assists over 9000 businesses in California with human resource solutions. \n\n \n\nKim is an experienced HR Generalist\, a dynamic speaker and a proven leader who has been successfully leading CEA since 2002. Thoroughly immersed in human resources and operations for over 25 years\, Kim has a variety of HR experience in retail\, insurance and manufacturing environments.  Kim exhibits her comprehensive bank of knowledge and crystal clear strategic guidance with CEA members and staff every day. \n\n \n\nKim earned her BA degree in Business Administration\, with a minor in Human Resources\, at the University of Puget Sound.  \n\n \n\nKim is a founding member of the Employers Association of America and sits on a variety of boards including:   \n\n \n\n	The Sacramento Workforce Investment Board (Board Chair 2009   2014).  \n\n \n\n\n	California State Workforce Investment Board (Appointed by Governor Jerry Brown in 2013) \n\n \n\n\n	California Workforce Association Board (2014   present)   \n\n \n\nCalifornia Employers Association\n\n1-800-399-5331\n\nwww.employers.org
X-ALT-DESC;FMTTYPE=text/html:<span style="font-family:arial\,sans-serif\;">Kim Parker is the President and CEO of the California Employers Association (CEA).&nbsp\; CEA is a not for profit human resource association\, established in 1937\, that assists over 9000 businesses in California with human resource solutions. </span><br />\n&nbsp\;<br />\n<span style="font-family:arial\,sans-serif\;">Kim is an experienced HR Generalist\, a dynamic speaker and a proven leader who has been successfully leading CEA since 2002. Thoroughly immersed in human resources and operations for over 25 years\, Kim has a variety of HR experience in retail\, insurance and manufacturing environments.&nbsp\; Kim exhibits her comprehensive bank of knowledge and crystal clear strategic guidance with CEA members and staff every day. </span><br />\n&nbsp\;<br />\n<span style="font-family:arial\,sans-serif\;">Kim earned her BA degree in Business Administration\, with a minor in Human Resources\, at the University of Puget Sound.&nbsp\; </span><br />\n&nbsp\;<br />\n<em><span style="font-family:arial\,sans-serif\;">Kim is a founding member of the Employers Association of America and sits on a variety of boards including:&nbsp\;&nbsp\; </span></em><br />\n&nbsp\;\n<ul>\n	<li style="text-align:justify\;"><em><span style="font-family:arial\,sans-serif\;">The Sacramento Workforce Investment Board (Board Chair 2009 &ndash\; 2014).&nbsp\; </span></em></li>\n</ul>\n&nbsp\;\n\n<ul>\n	<li style="text-align:justify\;"><em><span style="font-family:arial\,sans-serif\;">California State Workforce Investment Board (Appointed by Governor Jerry Brown in 2013) </span></em></li>\n</ul>\n&nbsp\;\n\n<ul>\n	<li style="text-align:justify\;"><em><span style="font-family:arial\,sans-serif\;">California Workforce Association Board (2014 &ndash\; present) &nbsp\;&nbsp\;</span></em></li>\n</ul>\n&nbsp\;<br />\n<span style="font-family:arial\,sans-serif\;"><span style="font-size:10.0pt\;">California Employers Association</span></span><br />\n<span style="font-family:arial\,sans-serif\;"><span style="font-size:10.0pt\;">1-800-399-5331</span></span><br />\n<span style="font-family:arial\,sans-serif\;"><span style="font-size:10.0pt\;">www.employers.org</span></span>
LOCATION:Parkers' Lighthouse 435 Shoreline Village Dr. Long Beach\, CA 90802-4550
UID:e.1956.2406
SEQUENCE:3
DTSTAMP:20260422T000423Z
URL:https://business.lbchamber.com/events/details/good-afternoon-long-beach-03-10-2015-2406
END:VEVENT

END:VCALENDAR
