BEGIN:VCALENDAR
VERSION:2.0
PRODID:-//ChamberMaster//Event Calendar 2.0//EN
METHOD:PUBLISH
X-PUBLISHED-TTL:P3D
REFRESH-INTERVAL:P3D
CALSCALE:GREGORIAN
BEGIN:VEVENT
DTSTART:20170214T193000Z
DTEND:20170214T210000Z
X-MICROSOFT-CDO-ALLDAYEVENT:FALSE
SUMMARY:Good Afternoon Long Beach 021417
DESCRIPTION:Get to know your fellow business members!\n\n\nEach of the attendees will have 30 seconds to present an introduction to their business. So have your best elevator pitch ready and bring plenty of business cards. Hope to see you there!
X-ALT-DESC;FMTTYPE=text/html:<div>\n<div class="MainText" data-gcf-font-size="10pt" style="color: rgb(64\, 63\, 66)\; font-family: Helvetica\, Calibri\, Arial\, sans-serif\; font-size: 13.3333px\;"><br />\n<em><strong>Get to know your fellow business members!</strong></em></div>\n\n<div style="color: rgb(64\, 63\, 66)\; font-family: Helvetica\, Calibri\, Arial\, sans-serif\; font-size: 13.3333px\;">\n<div class="MainText" data-gcf-font-size="10pt" style="font-size: 10pt\;">Each of the attendees will have 30 seconds to present an introduction to their business. So have your best elevator pitch ready and bring plenty of business cards. Hope to see you there!</div>\n</div>\n</div>\n
LOCATION:Parkers' Lighthouse 435 Shoreline Village Drive Long Beach\, CA 90802
UID:e.1956.2606
SEQUENCE:3
DTSTAMP:20260419T222245Z
URL:https://business.lbchamber.com/events/details/good-afternoon-long-beach-021417-2606
END:VEVENT

END:VCALENDAR
