BEGIN:VCALENDAR
VERSION:2.0
PRODID:-//ChamberMaster//Event Calendar 2.0//EN
METHOD:PUBLISH
X-PUBLISHED-TTL:P3D
REFRESH-INTERVAL:P3D
CALSCALE:GREGORIAN
BEGIN:VEVENT
DTSTART:20170411T183000Z
DTEND:20170411T200000Z
X-MICROSOFT-CDO-ALLDAYEVENT:FALSE
SUMMARY:Good Afternoon Long Beach
DESCRIPTION:The Chamber's "Annual Meeting"\n\n\n\nPlease join us as our incoming Chairman\, Kent Peterson\, introduces the new Board of Directors.  \n\n\n\nEach of the attendees will have 30 seconds to present an introduction to their business. So have your best elevator pitch ready and bring plenty of business cards. Hope to see you there!
X-ALT-DESC;FMTTYPE=text/html:<em><strong>The Chamber&#39\;s &quot\;Annual Meeting&quot\;</strong></em><br />\n<br />\nPlease join us as our incoming Chairman\, Kent Peterson\, introduces the new Board of Directors. &nbsp\;<br />\n<br />\n<span style="color: rgb(64\, 63\, 66)\; font-family: Helvetica\, Calibri\, Arial\, sans-serif\; font-size: 13.3333px\;">Each of the attendees will have 30 seconds to present an introduction to their business. So have your best elevator pitch ready and bring plenty of business cards. Hope to see you there!</span>
LOCATION:Parkers' Lighthouse 435 Shoreline Village Drive Long Beach\, CA 90802
UID:e.1956.2608
SEQUENCE:3
DTSTAMP:20260419T191100Z
URL:https://business.lbchamber.com/events/details/good-afternoon-long-beach-020916-04-11-2017-2608
END:VEVENT

END:VCALENDAR
