BEGIN:VCALENDAR
VERSION:2.0
PRODID:-//ChamberMaster//Event Calendar 2.0//EN
METHOD:PUBLISH
X-PUBLISHED-TTL:P3D
REFRESH-INTERVAL:P3D
CALSCALE:GREGORIAN
BEGIN:VEVENT
DTSTART:20160112T193000Z
DTEND:20160112T210000Z
X-MICROSOFT-CDO-ALLDAYEVENT:FALSE
SUMMARY:Good Afternoon Long Beach 011216
DESCRIPTION:Please join us as our speaker will be Wende Nichols-Julien\, Executive Director of The California Conference for Equality and Justice.\n\n\n\nThe California Conference for Equality and Justice (CCEJ) is a human relations organization dedicated to confronting bias\, bigotry and racism through education\, conflict resolution and advocacy.\nEstablished in 1963 as the National Conference of Christians and Jews\, the organization became the independent and known as the California Conference for Equality and Justice (CCEJ) in 2005. CCEJ directly serves 5\,000 people each year through our transformative conflict resolution and education programs in communities and schools.  Our critical youth programs give young people a safe place to learn and engage in dialogue about culture\, communication and conflict. CCEJ's programs give students a place to belong where they are valued and listened to\, learn the skills they need to lead and succeed\, and gain the courage to share those skills with others. One recent CCEJ graduate aptly explained that CCEJ teaches students that "a conversation resolves a conflict better than a gun."\n\nOur Programs include Conflict Resolution\, Building Bridges Youth Programs\, Community Anti-Bias and Leadership Education Programs and Interfaith Programs.
X-ALT-DESC;FMTTYPE=text/html:<span style="font-size:12px\;"><span style="font-family:arial\;">Please join us as our speaker will be&nbsp\;<span style="line-height: 1.6\;">Wende</span><span style="line-height: 1.6\;"> </span>Nichols-Julien<span style="line-height: 1.6\;">\,&nbsp\;</span><span style="line-height: 1.6\;">Executive Director of&nbsp\;</span><span style="line-height: 1.6\;">The California Conference for Equality and Justice.</span></span></span>\n\n<div><br />\n<span style="font-size:12px\;"><span style="font-family:arial\;"><span style="line-height: 1.6\;">The California Conference for Equality and Justice (</span>CCEJ<span style="line-height: 1.6\;">) is a human relations organization dedicated to confronting bias\, bigotry and racism through education\, conflict resolution and advocacy.</span></span></span></div>\n<span style="font-size:12px\;"><span style="font-family:arial\;">Established in 1963 as the National Conference of Christians and Jews\, the organization became the independent and known as the California Conference for Equality and Justice (CCEJ) in 2005. CCEJ directly serves 5\,000 people each year through our transformative conflict resolution and education programs in communities and schools.&nbsp\; Our critical youth programs give young people a safe place to learn and engage in dialogue about culture\, communication and conflict. CCEJ&rsquo\;s programs give students a place to belong where they are valued and listened to\, learn the skills they need to lead and succeed\, and gain the courage to share those skills with others. One recent CCEJ graduate aptly explained that CCEJ teaches students that &ldquo\;a conversation resolves a conflict better than a gun.&rdquo\;<br />\nOur Programs include Conflict Resolution\, Building Bridges Youth Programs\, Community Anti-Bias and Leadership Education Programs and Interfaith Programs.</span></span>
LOCATION:Parkers' Lighthouse 435 Shoreline Village Dr. Long Beach\, CA 90802
UID:e.1956.2487
SEQUENCE:3
DTSTAMP:20260420T172036Z
URL:https://business.lbchamber.com/events/details/good-afternoon-long-beach-011216-01-12-2016-2487
END:VEVENT

END:VCALENDAR
