BEGIN:VCALENDAR
VERSION:2.0
PRODID:-//ChamberMaster//Event Calendar 2.0//EN
METHOD:PUBLISH
X-PUBLISHED-TTL:P3D
REFRESH-INTERVAL:P3D
CALSCALE:GREGORIAN
BEGIN:VEVENT
DTSTART:20150113T193000Z
DTEND:20150113T210000Z
X-MICROSOFT-CDO-ALLDAYEVENT:FALSE
SUMMARY:Good Afternoon Long Beach
DESCRIPTION:Good Afternoon Long Beach Luncheon\, featuring Kandi Lee.
X-ALT-DESC;FMTTYPE=text/html:Good Afternoon Long Beach Luncheon\, featuring Kandi Lee.&nbsp\;&nbsp\;&nbsp\;&nbsp\;
LOCATION:Parkers' Lighthouse 435 Shoreline Village Dr. Long Beach\, CA 90802-4550
UID:e.1956.2362
SEQUENCE:3
DTSTAMP:20260422T024122Z
URL:https://business.lbchamber.com/events/details/good-afternoon-long-beach-01-13-2015-2362
END:VEVENT

END:VCALENDAR
