BEGIN:VCALENDAR
VERSION:2.0
PRODID:-//ChamberMaster//Event Calendar 2.0//EN
METHOD:PUBLISH
X-PUBLISHED-TTL:P3D
REFRESH-INTERVAL:P3D
CALSCALE:GREGORIAN
BEGIN:VEVENT
DTSTART:20170110T193000Z
DTEND:20170110T210000Z
X-MICROSOFT-CDO-ALLDAYEVENT:FALSE
SUMMARY:Good Afternoon Long Beach 01/10/16
DESCRIPTION:New Year\, New Exciting Opportunity!\n\n\n\nEach of the attendees will have 30 seconds to present an introduction to their business. So have your best elevator pitch ready and bring plenty of business cards.  \n\n\n\nHope to see you there!
X-ALT-DESC;FMTTYPE=text/html:<em><strong>New Year\, New Exciting Opportunity!</strong></em><br />\n<br />\nEach of the&nbsp\;attendees will have 30 seconds to present an&nbsp\;introduction to their business. So have your best&nbsp\;elevator pitch ready and bring plenty of&nbsp\;business cards. &nbsp\;<br />\n<br />\nHope to see you there!\n<div>&nbsp\;</div>\n
LOCATION:Parkers' Lighthouse 435 Shoreline Village Drive Long Beach\, CA 90802
UID:e.1956.2605
SEQUENCE:3
DTSTAMP:20260420T003957Z
URL:https://business.lbchamber.com/events/details/good-afternoon-long-beach-01-10-16-2605
END:VEVENT

END:VCALENDAR
