BEGIN:VCALENDAR
VERSION:2.0
PRODID:-//ChamberMaster//Event Calendar 2.0//EN
METHOD:PUBLISH
X-PUBLISHED-TTL:P3D
REFRESH-INTERVAL:P3D
CALSCALE:GREGORIAN
BEGIN:VEVENT
DTSTART:20140917T000000Z
DTEND:20140917T020000Z
X-MICROSOFT-CDO-ALLDAYEVENT:FALSE
SUMMARY:GBC\, IBA\, WBC Joint Mixer - Hotel Maya
DESCRIPTION:Summer is over and it's time to reconnect!  Please join us for this joint mixer where a couple of The Chamber's committees - the Green Business Council\, International Business Association and Women's Business Council - get together for a mixer!
X-ALT-DESC;FMTTYPE=text/html:Summer is over and it&#39\;s time to reconnect! &nbsp\;Please join us for this joint mixer where a couple of The Chamber&#39\;s committees - the Green Business Council\, International Business Association and Women&#39\;s Business Council - get together for a mixer!
LOCATION:The mixer is located at the beautiful Hotel Maya 700 Queensway Drive\, Long Beach\, CA 90802
UID:e.1956.2292
SEQUENCE:3
DTSTAMP:20260422T075643Z
URL:https://business.lbchamber.com/events/details/gbc-iba-wbc-joint-mixer-hotel-maya-09-16-2014-2292
END:VEVENT

END:VCALENDAR
