BEGIN:VCALENDAR
VERSION:2.0
PRODID:-//ChamberMaster//Event Calendar 2.0//EN
METHOD:PUBLISH
X-PUBLISHED-TTL:P3D
REFRESH-INTERVAL:P3D
CALSCALE:GREGORIAN
BEGIN:VEVENT
DTSTART:20141209T013000Z
DTEND:20141209T033000Z
X-MICROSOFT-CDO-ALLDAYEVENT:FALSE
SUMMARY:GBC\, IBA\, LBYP\, WBC Joint Holiday Mixer
DESCRIPTION:Joint Holiday Mixer\n\nbenefiting the \n\nLong Beach Ronald McDonald House
X-ALT-DESC;FMTTYPE=text/html:<span style="font-size:14px\;"><span style="font-weight:bold\;language:en-US\;"><span style="font-family:georgia\;">Joint Holiday Mixer</span></span><br />\n<em><span style="font-weight:bold\;"><span style="font-family:georgia\;">benefiting the </span></span></em><br />\n<span style="font-weight:bold\;language:en-US\;"><span style="font-family:georgia\;">Long Beach Ronald McDonald House</span></span></span><br />\n<br />\n&nbsp\;
LOCATION:Forbidden City Restaurant 6380-A East Pacific Coast Hwy.\, Long Beach CA 90803
UID:e.1956.2334
SEQUENCE:3
DTSTAMP:20260422T035126Z
URL:https://business.lbchamber.com/events/details/gbc-iba-lbyp-wbc-joint-holiday-mixer-12-08-2014-2334
END:VEVENT

END:VCALENDAR
