BEGIN:VCALENDAR
VERSION:2.0
PRODID:-//ChamberMaster//Event Calendar 2.0//EN
METHOD:PUBLISH
X-PUBLISHED-TTL:P3D
REFRESH-INTERVAL:P3D
CALSCALE:GREGORIAN
BEGIN:VEVENT
DTSTART:20141029T143000Z
DTEND:20141029T183000Z
X-MICROSOFT-CDO-ALLDAYEVENT:FALSE
SUMMARY:GBC - Green Long Beach-Water & Transportation
DESCRIPTION:Green Business  Council - Green Long Beach - Water & Transportation\n\nKeynote Speaker: Jerry Schubel\, President & CEO\, Aquarium of the Pacific\n\nPanelists to Discuss:\n\n     Sea Level Rise\n\n     Clean Transportation\n\n     Personal Transportation
X-ALT-DESC;FMTTYPE=text/html:<p>Green Business &nbsp\;Council - Green Long Beach - Water &amp\; Transportation<br />\nKeynote Speaker: Jerry Schubel\, President &amp\; CEO\, Aquarium of the Pacific<br />\nPanelists to Discuss:<br />\n&nbsp\;&nbsp\; &nbsp\; Sea Level Rise<br />\n&nbsp\;&nbsp\; &nbsp\; Clean Transportation<br />\n&nbsp\;&nbsp\; &nbsp\; Personal Transportation</p>\n
LOCATION:Long Beach Marriott 4700 Airport Plaza Drive Long Beach\, CA 90815
UID:e.1956.2297
SEQUENCE:3
DTSTAMP:20260422T064950Z
URL:https://business.lbchamber.com/events/details/gbc-green-long-beach-water-transportation-10-29-2014-2297
END:VEVENT

END:VCALENDAR
