BEGIN:VCALENDAR
VERSION:2.0
PRODID:-//ChamberMaster//Event Calendar 2.0//EN
METHOD:PUBLISH
X-PUBLISHED-TTL:P3D
REFRESH-INTERVAL:P3D
CALSCALE:GREGORIAN
BEGIN:VEVENT
DTSTART:20190302T190000Z
DTEND:20190302T200000Z
X-MICROSOFT-CDO-ALLDAYEVENT:FALSE
SUMMARY:Free Saturday Family Theatre
DESCRIPTION:Our Free Saturday Family Theatre Series is a FREE opportunity for kids of all ages to experience the magic of theatre. These FREE shows are open to all. Bring your kids\, bring your parents\, bring your neighbors! Reservations are required.
X-ALT-DESC;FMTTYPE=text/html:Our Free Saturday Family Theatre Series is a FREE opportunity for kids of all ages to experience the magic of theatre. These FREE shows are open to all. Bring your kids\, bring your parents\, bring your neighbors! Reservations are required.
LOCATION:International City Theatre 330 E Seaside Way\, Long Beach\, CA 90802
UID:e.1956.4421
SEQUENCE:3
DTSTAMP:20260420T000657Z
URL:https://business.lbchamber.com/events/details/free-saturday-family-theatre-4421
END:VEVENT

END:VCALENDAR
