BEGIN:VCALENDAR
VERSION:2.0
PRODID:-//ChamberMaster//Event Calendar 2.0//EN
METHOD:PUBLISH
X-PUBLISHED-TTL:P3D
REFRESH-INTERVAL:P3D
CALSCALE:GREGORIAN
BEGIN:VEVENT
DTSTART:20150425T150000Z
DTEND:20150425T210000Z
X-MICROSOFT-CDO-ALLDAYEVENT:FALSE
SUMMARY:Free Dentistry Day: Give Kids A Smile
DESCRIPTION:FUNtastic Dental and Orthodontics will host Long Beach annual Free Dentistry Day ? providing a free day of dental care to children up to the age of 17\, who are uninsured or due to financial constraints are not able to afford dental care. The line will begin as early as 8a.m. that morning\, with hundreds prepared to camp out in order to receive free dental services. The 2nd annual free day of dentistry will be on Saturday\, April 25\, 2015\, from 8:00a.m. to 2:00p.m. In July of 2014\, FUNtastic Dental and Orthodontics hosted their 1st day of free dentistry providing dental care for more than 30 children and plan to repeat the successful event on April 25\, 2015. ?It all comes down to wanting to provide something greater to my community\,? said Dr. Bob Stella\, owner of FUNtastic Dental and Orthodontics. ?The services provided by FUNtastic Dental helps more than just patient?s teeth\, it gives them a renewed reason to smile.? Join FUNtastic Dental and Orthodontics on Saturday\, April 25\, 2015 to spread free smiles across Long Beach through Give Kids A Smile. Our office is located at 2700 N. Bellflower Blvd. Suite 217\, Long Beach\, 90815. For more information please visit www.FUNtasticDental.com
X-ALT-DESC;FMTTYPE=text/html:FUNtastic Dental and Orthodontics will host Long Beach annual Free Dentistry Day ? providing a free day of dental care to children up to the age of 17\, who are uninsured or due to financial constraints are not able to afford dental care. The line will begin as early as 8a.m. that morning\, with hundreds prepared to camp out in order to receive free dental services. The 2nd annual free day of dentistry will be on Saturday\, April 25\, 2015\, from 8:00a.m. to 2:00p.m. In July of 2014\, FUNtastic Dental and Orthodontics hosted their 1st day of free dentistry providing dental care for more than 30 children and plan to repeat the successful event on April 25\, 2015. ?It all comes down to wanting to provide something greater to my community\,? said Dr. Bob Stella\, owner of FUNtastic Dental and Orthodontics. ?The services provided by FUNtastic Dental helps more than just patient?s teeth\, it gives them a renewed reason to smile.? Join FUNtastic Dental and Orthodontics on Saturday\, April 25\, 2015 to spread free smiles across Long Beach through Give Kids A Smile. Our office is located at 2700 N. Bellflower Blvd. Suite 217\, Long Beach\, 90815. For more information please visit www.FUNtasticDental.com
LOCATION:2700 N. Bellflower Blvd. #217 Long Beach\, CA 90815
UID:e.1956.2433
SEQUENCE:3
DTSTAMP:20260424T044035Z
URL:https://business.lbchamber.com/events/details/free-dentistry-day-give-kids-a-smile-04-25-2015-2433
END:VEVENT

END:VCALENDAR
