BEGIN:VCALENDAR
VERSION:2.0
PRODID:-//ChamberMaster//Event Calendar 2.0//EN
METHOD:PUBLISH
X-PUBLISHED-TTL:P3D
REFRESH-INTERVAL:P3D
CALSCALE:GREGORIAN
BEGIN:VEVENT
DTSTART:20140928T230000Z
DTEND:20140929T000000Z
X-MICROSOFT-CDO-ALLDAYEVENT:FALSE
SUMMARY:Free Clown Workshop at the A LOT
DESCRIPTION:On September 28\, award-winning theater company Four Clowns will be conducting a beginner?s clowning workshop at one of the four Arts Council for Long Beach?s (ACLB) upcoming A LOT Initiative events. Four Clowns company members will be facilitating the workshop with undergraduate cast members from the upcoming production of Ubu the Sh*t that the company is co-producing this fall with the Theatre Arts Department at CSU Long Beach. The workshop will begin at 4:00pm and\, like all of the A LOT events\, is open to the public and free of charge.
X-ALT-DESC;FMTTYPE=text/html:On September 28\, award-winning theater company Four Clowns will be conducting a beginner?s clowning workshop at one of the four Arts Council for Long Beach?s (ACLB) upcoming A LOT Initiative events. Four Clowns company members will be facilitating the workshop with undergraduate cast members from the upcoming production of Ubu the Sh*t that the company is co-producing this fall with the Theatre Arts Department at CSU Long Beach. The workshop will begin at 4:00pm and\, like all of the A LOT events\, is open to the public and free of charge.
LOCATION:Corner of East 3rd Street and Long Beach Blvd
UID:e.1956.2309
SEQUENCE:3
DTSTAMP:20260424T141110Z
URL:https://business.lbchamber.com/events/details/free-clown-workshop-at-the-a-lot-09-28-2014-2309
END:VEVENT

END:VCALENDAR
