BEGIN:VCALENDAR
VERSION:2.0
PRODID:-//ChamberMaster//Event Calendar 2.0//EN
METHOD:PUBLISH
X-PUBLISHED-TTL:P3D
REFRESH-INTERVAL:P3D
CALSCALE:GREGORIAN
BEGIN:VEVENT
DTSTART;VALUE=DATE:20150908
DTEND;VALUE=DATE:20150913
TRANSP:TRANSPARENT
X-MICROSOFT-CDO-ALLDAYEVENT:TRUE
SUMMARY:First Responders Week
DESCRIPTION:As a small token of thanks for their everyday bravery\, police\, firefighters\, emergency medical technicians\, active military and the immediate family members that support them can visit The Joint Chiropractic  for a free adjustment during First Responders Week\, Sept. 8-12\, 2015.\n\n\n\nThanks for having our backs. Now we'd like to help you with yours.
X-ALT-DESC;FMTTYPE=text/html:<span style="font-size:14px"><span style="font-family:calibri\,sans-serif"><span style="font-family:calibri\,sans-serif">As a small token of thanks for their everyday bravery\, police\, firefighters\, emergency medical technicians\, active military and the immediate family members that support them can visit The Joint Chiropractic&reg\; for a free adjustment during First Responders Week\, Sept. 8-12\, 2015.</span><br />\n<br />\nThanks for having our backs. Now we&rsquo\;d like to help you with yours. </span></span>
LOCATION:6612 E. Pacific Coast Highway Long Beach\, CA 90803
UID:e.1956.2502
SEQUENCE:3
DTSTAMP:20260423T233435Z
URL:https://business.lbchamber.com/events/details/first-responders-week-09-08-2015-2502
END:VEVENT

END:VCALENDAR
