BEGIN:VCALENDAR
VERSION:2.0
PRODID:-//ChamberMaster//Event Calendar 2.0//EN
METHOD:PUBLISH
X-PUBLISHED-TTL:P3D
REFRESH-INTERVAL:P3D
CALSCALE:GREGORIAN
BEGIN:VEVENT
DTSTART:20180630T190000Z
DTEND:20180701T000000Z
X-MICROSOFT-CDO-ALLDAYEVENT:FALSE
SUMMARY:Festival Obscura presents "A Celebration at Sunnyside Cemetery"
DESCRIPTION:An event unlike any other\, "A Celebration at Sunnyside" will bring together craft breweries\, cider and wine makers\, along with local food\, coffee\, and kombucha makers while attendees enjoy a variety of merchants\, including macabre artists\, vintage collectible purveyors\, morticians\, as well as local historians\, authors and musicians on the cemetery grounds. "A Celebration at Sunnyside" is a fundraising event to be held on Saturday June 30th\, 2018 in the historic (Long Beach's oldest) Sunnyside Cemetery located in Long Beach from 12-5PM. Proceeds benefit Sunnyside Cemetery. Early Bird General Admission tickets are $40 (plus fees) and will allow entrance from 1-5PM. Early Bird VIP tickets are $60 (plus fees) and include an early entrance at 12PM as well as a commemorative tote to shop and purchase goodies from many of our local macabre guests and merchants. Early Bird DD tickets are $20 (plus fees). Both ticket options include a commemorative taster glass & unlimited sample pours. Sorry... DDs are not allowed to drink. Tickets will be limited to 1\,500 guests. 21+ only. "A Celebration at Sunnyside"\, will feature 45+ hand-selected craft libation vendors including Craft Breweries\, Cideries\, Wineries\, Coffee Roasters\, and Kombucha maker along with local food trucks. In addition to fine beverages\, the festival will highlight 20+ macabre artists\, vintage collectibles merchants\, local authors\, historians\, musicians and even a couple morticians. A silent auction and self-guided cemetery history tours will also be available. This event will be held rain or shine. Sorry\, no refunds. #savesunnyside #festivalobscura #sunnysidecemetery #craftbeer #wine #cider #cemetery #festival #macabre #longbeach
X-ALT-DESC;FMTTYPE=text/html:An event unlike any other\, &ldquo\;A Celebration at Sunnyside&rdquo\; will bring together craft breweries\, cider and wine makers\, along with local food\, coffee\, and kombucha makers while attendees enjoy a variety of merchants\, including macabre artists\, vintage collectible purveyors\, morticians\, as well as local historians\, authors and musicians on the cemetery grounds. &ldquo\;A Celebration at Sunnyside&rdquo\; is a fundraising event to be held on Saturday June 30th\, 2018 in the historic (Long Beach&rsquo\;s oldest) Sunnyside Cemetery located in Long Beach from 12-5PM. Proceeds benefit Sunnyside Cemetery. Early Bird General Admission tickets are $40 (plus fees) and will allow entrance from 1-5PM. Early Bird VIP tickets are $60 (plus fees) and include an early entrance at 12PM as well as a commemorative tote to shop and purchase goodies from many of our local macabre guests and merchants. Early Bird DD tickets are $20 (plus fees). Both ticket options include a commemorative taster glass &amp\; unlimited sample pours. Sorry... DDs are not allowed to drink. Tickets will be limited to 1\,500 guests. 21+ only. &ldquo\;A Celebration at Sunnyside&rdquo\;\, will feature 45+ hand-selected craft libation vendors including Craft Breweries\, Cideries\, Wineries\, Coffee Roasters\, and Kombucha maker along with local food trucks. In addition to fine beverages\, the festival will highlight 20+ macabre artists\, vintage collectibles merchants\, local authors\, historians\, musicians and even a couple morticians. A silent auction and self-guided cemetery history tours will also be available. This event will be held rain or shine. Sorry\, no refunds. #savesunnyside #festivalobscura #sunnysidecemetery #craftbeer #wine #cider #cemetery #festival #macabre #longbeach
LOCATION:Sunnyside Cemetery 1095 E Willow St Long Beach\, CA 90806
UID:e.1956.4300
SEQUENCE:3
DTSTAMP:20260420T131329Z
URL:https://business.lbchamber.com/events/details/festival-obscura-presents-a-celebration-at-sunnyside-cemetery-4300
END:VEVENT

END:VCALENDAR
