BEGIN:VCALENDAR
VERSION:2.0
PRODID:-//ChamberMaster//Event Calendar 2.0//EN
METHOD:PUBLISH
X-PUBLISHED-TTL:P3D
REFRESH-INTERVAL:P3D
CALSCALE:GREGORIAN
BEGIN:VEVENT
DTSTART:20180826T000000Z
DTEND:20180826T040000Z
X-MICROSOFT-CDO-ALLDAYEVENT:FALSE
SUMMARY:Farm Dinner at the Ranch
DESCRIPTION:FARM DINNER at the Ranch - A Unique Experience Dine amid the corrals\, barns and farm animals at Rancho Los Alamitos and enjoy a delightful evening of remarkable food\, lively entertainment and good friends. The farm-to-table feast is prepared by Chef Paul Buchanan\, voted the Best Chef in 2015\, 2016 and 2017 by the Long Beach Press Telegram Readers Choice Awards. Highlights: A lively and enjoyable evening at the Ranch with great wine\, food and entertainment featuring:   Garden cocktail reception   Casual family-style dinner under the stars   Farm-to-table meal with featuring local produce and ranch menu   Lively entertainment by a local indie-country band   Live and silent auction with a distinctive ranching flavor All net proceeds will benefit the educational programs of Rancho Los Alamitos.
X-ALT-DESC;FMTTYPE=text/html:FARM DINNER at the Ranch - A Unique Experience Dine amid the corrals\, barns and farm animals at Rancho Los Alamitos and enjoy a delightful evening of remarkable food\, lively entertainment and good friends. The farm-to-table feast is prepared by Chef Paul Buchanan\, voted the Best Chef in 2015\, 2016 and 2017 by the Long Beach Press Telegram Readers Choice Awards. Highlights: A lively and enjoyable evening at the Ranch with great wine\, food and entertainment featuring: &bull\; Garden cocktail reception &bull\; Casual family-style dinner under the stars &bull\; Farm-to-table meal with featuring local produce and ranch menu &bull\; Lively entertainment by a local indie-country band &bull\; Live and silent auction with a distinctive ranching flavor All net proceeds will benefit the educational programs of Rancho Los Alamitos.
LOCATION:Rancho Los Alamitos Historic Ranch and Gardens 6400 East Bixby Hill Road\, Long Beach\, CA 90815
UID:e.1956.4250
SEQUENCE:3
DTSTAMP:20260420T114349Z
URL:https://business.lbchamber.com/events/details/farm-dinner-at-the-ranch-08-25-2018-4250
END:VEVENT

END:VCALENDAR
