BEGIN:VCALENDAR
VERSION:2.0
PRODID:-//ChamberMaster//Event Calendar 2.0//EN
METHOD:PUBLISH
X-PUBLISHED-TTL:P3D
REFRESH-INTERVAL:P3D
CALSCALE:GREGORIAN
BEGIN:VEVENT
DTSTART:20190202T200000Z
DTEND:20190203T000000Z
X-MICROSOFT-CDO-ALLDAYEVENT:FALSE
SUMMARY:Family Concert: Up! Up! And Away!
DESCRIPTION:A musical afternoon with a full symphonic performance from Long Beach Symphony celebrating things that fly from bumblebees to birds\, kites to magic carpets\, dragons to aliens\, and superheroes to starships! Enjoy an afternoon of interactive musical activities\, face painting\, sing-alongs\, conducting\, dancing\, and MORE! Kids 17 and under get in FREE   18 and over $20 This concert is sponsored in part by a grant from the Earl B. and Loraine H. Miller Foundation
X-ALT-DESC;FMTTYPE=text/html:A musical afternoon with a full symphonic performance from Long Beach Symphony celebrating things that fly from bumblebees to birds\, kites to magic carpets\, dragons to aliens\, and superheroes to starships! Enjoy an afternoon of interactive musical activities\, face painting\, sing-alongs\, conducting\, dancing\, and MORE! Kids 17 and under get in FREE &ndash\; 18 and over $20 This concert is sponsored in part by a grant from the Earl B. and Loraine H. Miller Foundation
LOCATION:Long Beach Performing Arts Center\, Terrace Theater
UID:e.1956.4408
SEQUENCE:3
DTSTAMP:20260420T012505Z
URL:https://business.lbchamber.com/events/details/family-concert-up-up-and-away-4408
END:VEVENT

END:VCALENDAR
