BEGIN:VCALENDAR
VERSION:2.0
PRODID:-//ChamberMaster//Event Calendar 2.0//EN
METHOD:PUBLISH
X-PUBLISHED-TTL:P3D
REFRESH-INTERVAL:P3D
CALSCALE:GREGORIAN
BEGIN:VEVENT
DTSTART:20190330T160000Z
DTEND:20190330T220000Z
X-MICROSOFT-CDO-ALLDAYEVENT:FALSE
SUMMARY:Skill4Care Family Caregiver Workshop: A Practical Guide to Caregiving
DESCRIPTION:Skills4Care is hosting a community workshop. Aiming to help guide and support family caregivers. By providing hands on training techniques applicable to real life experiences. Helping family Caregivers become better prepared to care those they love.
X-ALT-DESC;FMTTYPE=text/html:<span style="color:#231F20"><span style="font-family:arial"><span style="font-size:14.0pt">Skills4Care is hosting a community workshop. Aiming to help guide and support family caregivers. By providing hands on training techniques applicable to real life experiences. Helping family Caregivers become better prepared to care those they love.</span></span></span><br />\n<strong>&nbsp\;</strong>
LOCATION:5199 E. Pacific Coast Highway STE 100B Long Beach\, CA 90804
UID:e.1956.4419
SEQUENCE:3
DTSTAMP:20260420T001428Z
URL:https://business.lbchamber.com/events/details/family-caregiver-workshop-a-practical-guide-to-caregiving-4419
END:VEVENT

END:VCALENDAR
