BEGIN:VCALENDAR
VERSION:2.0
PRODID:-//ChamberMaster//Event Calendar 2.0//EN
METHOD:PUBLISH
X-PUBLISHED-TTL:P3D
REFRESH-INTERVAL:P3D
CALSCALE:GREGORIAN
BEGIN:VEVENT
DTSTART:20181109T020000Z
DTEND:20181109T050000Z
X-MICROSOFT-CDO-ALLDAYEVENT:FALSE
SUMMARY:Fall Open House at Recreation Park 18 Golf Course
DESCRIPTION:Planning a special event?? Come and see what Recreation Park 18 Golf Course has to offer for all your upcoming event needs! Join us for a decadent evening showcasing our historical Long Beach venue with stylized looks & tasteful bites. There will be something for everyone to enjoy so drop-in to network with our favorite vendors in the industry and take advantage of our incredible deals & incentives. We can't wait to see you in a few weeks at our Fall Open House!!\n\n\n\nIf you have any additional questions or would like to participate as a vendor please contact the Private Events Office at privateeventdirector@recreationparkgc.com
X-ALT-DESC;FMTTYPE=text/html:Planning a special event?? Come and see what Recreation Park 18 Golf Course has to offer for all your upcoming event needs! Join us for a decadent evening showcasing our historical Long Beach venue with stylized looks &amp\; tasteful bites. There will be something for everyone to enjoy so drop-in to network with our favorite vendors in the industry&nbsp\;and take advantage of our incredible deals &amp\; incentives. We can&rsquo\;t wait to see you in a few weeks at our Fall Open House!!<br />\n<br />\nIf you have any additional questions or would like to participate as a vendor please contact the Private Events Office at&nbsp\;<a href="mailto:privateeventdirector@recreationparkgc.com" rel="noopener noreferrer nofollow" style="color:rgb(61\, 100\, 255)\;text-decoration-line:none\;cursor:pointer\;padding-top:0px\;" target="_blank">privateeventdirector@recreationparkgc.com</a>
LOCATION:Recreation Park 18 Golf Course 5001 Deukmejian Dr. Long Beach\, Ca 90804
UID:e.1956.4380
SEQUENCE:3
DTSTAMP:20260420T060103Z
URL:https://business.lbchamber.com/events/details/fall-open-house-at-recreation-park-18-golf-course-4380
END:VEVENT

END:VCALENDAR
