BEGIN:VCALENDAR
VERSION:2.0
PRODID:-//ChamberMaster//Event Calendar 2.0//EN
METHOD:PUBLISH
X-PUBLISHED-TTL:P3D
REFRESH-INTERVAL:P3D
CALSCALE:GREGORIAN
BEGIN:VEVENT
DTSTART:20141025T010000Z
DTEND:20141025T050000Z
X-MICROSOFT-CDO-ALLDAYEVENT:FALSE
SUMMARY:"Fall For Autumn" Jewelry showcase & charity
DESCRIPTION:Join us Jonathan Marc for an unbelievable night\, as some of the worlds finest jewelers showcase a sneak peek of some of their upcoming beautifully crafted fine jewelry collections. "Fall (in love) For Autumn" will be benefiting the Ronald McDonald House in Long Beach with proceeds of sales going to help them with their incredible cause. The red carpet night will include music\, drinks\, food\, gems and the amazing people that make up Long Beach.
X-ALT-DESC;FMTTYPE=text/html:Join us Jonathan Marc for an unbelievable night\, as some of the worlds finest jewelers showcase a sneak peek of some of their upcoming beautifully crafted fine jewelry collections. &quot\;Fall (in love) For Autumn&quot\; will be benefiting the Ronald McDonald House in Long Beach with proceeds of sales going to help them with their incredible cause. The red carpet night will include music\, drinks\, food\, gems and the amazing people that make up Long Beach.
LOCATION:4342 Atlantic Ave\, Long Beach CA 90807
UID:e.1956.2319
SEQUENCE:3
DTSTAMP:20260422T070933Z
URL:https://business.lbchamber.com/events/details/fall-for-autumn-jewelry-showcase-charity-10-24-2014-2319
END:VEVENT

END:VCALENDAR
