BEGIN:VCALENDAR
VERSION:2.0
PRODID:-//ChamberMaster//Event Calendar 2.0//EN
METHOD:PUBLISH
X-PUBLISHED-TTL:P3D
REFRESH-INTERVAL:P3D
CALSCALE:GREGORIAN
BEGIN:VEVENT
DTSTART:20201014T210000Z
DTEND:20201014T223000Z
X-MICROSOFT-CDO-ALLDAYEVENT:FALSE
SUMMARY:Facebook Live for Business
DESCRIPTION:Facebook has over one billion subscribers. Now is the time to learn how to use Facebook Live Streaming to grow your business. This event will cover:\n\n\n\n1) How to set up your account\n\n2) Where to stream to get the most impact\n\n3) What to stream to drive business/sales\n\n4) How often to stream\n\n5) The 5 C's to increase more sales from your streams\n\n6) Q&A
X-ALT-DESC;FMTTYPE=text/html:<span style="background-image:initial\;background-position:initial\;background-size:initial\;background-repeat:initial\;background-attachment:initial\;background-origin:initial\;background-clip:initial\;"><span style="color:#232333\;"><span style="font-size:10.5pt\;">Facebook has over one billion subscribers. Now is the time to learn how to use Facebook Live Streaming to grow your business. This event will cover:</span></span></span><br />\n<br />\n<span style="color:#232333\;"><span style="font-size:10.5pt\;"><span style="background-image:initial\;background-position:initial\;background-size:initial\;background-repeat:initial\;background-attachment:initial\;background-origin:initial\;background-clip:initial\;">1) How to set up your account</span><br />\n<span style="background-image:initial\;background-position:initial\;background-size:initial\;background-repeat:initial\;background-attachment:initial\;background-origin:initial\;background-clip:initial\;">2) Where to stream to get the most impact</span><br />\n<span style="background-image:initial\;background-position:initial\;background-size:initial\;background-repeat:initial\;background-attachment:initial\;background-origin:initial\;background-clip:initial\;">3) What to stream to drive business/sales</span><br />\n<span style="background-image:initial\;background-position:initial\;background-size:initial\;background-repeat:initial\;background-attachment:initial\;background-origin:initial\;background-clip:initial\;">4) How often to stream</span><br />\n<span style="background-image:initial\;background-position:initial\;background-size:initial\;background-repeat:initial\;background-attachment:initial\;background-origin:initial\;background-clip:initial\;">5) The 5 C&rsquo\;s to increase more sales from your streams</span><br />\n<span style="background-image:initial\;background-position:initial\;background-size:initial\;background-repeat:initial\;background-attachment:initial\;background-origin:initial\;background-clip:initial\;">6) Q&amp\;A</span></span></span>
LOCATION:Virtual (Zoom)
UID:e.1956.4949
SEQUENCE:3
DTSTAMP:20260420T230940Z
URL:https://business.lbchamber.com/events/details/facebook-live-for-business-4949
END:VEVENT

END:VCALENDAR
