BEGIN:VCALENDAR
VERSION:2.0
PRODID:-//ChamberMaster//Event Calendar 2.0//EN
METHOD:PUBLISH
X-PUBLISHED-TTL:P3D
REFRESH-INTERVAL:P3D
CALSCALE:GREGORIAN
BEGIN:VEVENT
DTSTART:20150911T010000Z
DTEND:20150911T030000Z
X-MICROSOFT-CDO-ALLDAYEVENT:FALSE
SUMMARY:Energy & Emissions Technologies at the Ports
DESCRIPTION:The Los Angeles Chapters of the Young Professionals in Energy and the Association of Environmental Professionals present: Energy & Emissions Technologies at the Ports Please join us for a thought leadership event with the Port of Long Beach\, SoCalGas\, and the Clean Air Coalition to showcase energy trends and emissions technologies being deployed at the San Pedro Bay Complex ? which includes the Port of Los Angeles and the Port of Long Beach as well as surrounding areas. The discussion will focus on the various success stories of technologies being implemented to reduce emissions at the ports as well as the benefits of technology adaptation to the businesses\, communities\, and environment. SPONSORED BY: SoCalGas\, CleanAirCoalition\, Port of Long Beach\, BYD\, & Hecate Energy SUPPORTED BY: PORT TECH LA & Climate Resolve RSVP REQUIRED - no walk-ins A Government Issued ID is required at Security Check in - please arrive early 6:00-7:30PM Program at Port of Long Beach Board Room 4801 Airport Plaza Drive\, Long Beach\, CA 90815 7:30-9:00PM Networking/Drinks/Heavy Appetizersat Long Beach Marriott 4700 Airport Plaza Drive\, Long Beach\, CA 90815 Moderator: Geoffrey Danker\, Senior Policy & Planning Advisor at SoCalGas Speakers: Joe Lyou\, President & Chief Executive Officer at Coalition for Clean Air Jerilyn Mendoza\, Environmental Affairs Program Manager at SoCalGas Noel Hacegaba\, Managing Director of Commercial Operation & Chief Commercial Officer at Port of Long Beach
X-ALT-DESC;FMTTYPE=text/html:The Los Angeles Chapters of the Young Professionals in Energy and the Association of Environmental Professionals present: Energy &amp\; Emissions Technologies at the Ports Please join us for a thought leadership event with the Port of Long Beach\, SoCalGas\, and the Clean Air Coalition to showcase energy trends and emissions technologies being deployed at the San Pedro Bay Complex ? which includes the Port of Los Angeles and the Port of Long Beach as well as surrounding areas. The discussion will focus on the various success stories of technologies being implemented to reduce emissions at the ports as well as the benefits of technology adaptation to the businesses\, communities\, and environment. SPONSORED BY: SoCalGas\, CleanAirCoalition\, Port of Long Beach\, BYD\, &amp\; Hecate Energy SUPPORTED BY: PORT TECH LA &amp\; Climate Resolve RSVP REQUIRED - no walk-ins A Government Issued ID is required at Security Check in - please arrive early 6:00-7:30PM Program at Port of Long Beach Board Room 4801 Airport Plaza Drive\, Long Beach\, CA 90815 7:30-9:00PM Networking/Drinks/Heavy Appetizersat Long Beach Marriott 4700 Airport Plaza Drive\, Long Beach\, CA 90815 Moderator: Geoffrey Danker\, Senior Policy &amp\; Planning Advisor at SoCalGas Speakers: Joe Lyou\, President &amp\; Chief Executive Officer at Coalition for Clean Air Jerilyn Mendoza\, Environmental Affairs Program Manager at SoCalGas Noel Hacegaba\, Managing Director of Commercial Operation &amp\; Chief Commercial Officer at Port of Long Beach
LOCATION:Port of LB Administrative Offices\, 4801 Airport Plaza Drive\, Long Beach\, CA 90815
UID:e.1956.2493
SEQUENCE:3
DTSTAMP:20260423T233615Z
URL:https://business.lbchamber.com/events/details/energy-emissions-technologies-at-the-ports-09-10-2015-2493
END:VEVENT

END:VCALENDAR
