BEGIN:VCALENDAR
VERSION:2.0
PRODID:-//ChamberMaster//Event Calendar 2.0//EN
METHOD:PUBLISH
X-PUBLISHED-TTL:P3D
REFRESH-INTERVAL:P3D
CALSCALE:GREGORIAN
BEGIN:VEVENT
DTSTART:20150508T003000Z
DTEND:20150508T023000Z
X-MICROSOFT-CDO-ALLDAYEVENT:FALSE
SUMMARY:EDCO Long Beach Area Chamber of Commerce Network Event
DESCRIPTION:You are invited to attend a Long Beach Area Chamber of Commerce Network Event at EDCO Recycling & Transfer.\n\n\n\nJoin us for food\, fun & tours!
X-ALT-DESC;FMTTYPE=text/html:You are invited to attend a Long Beach Area Chamber of Commerce Network Event at EDCO&nbsp\;Recycling &amp\; Transfer.<br />\n<br />\nJoin us for food\, fun &amp\; tours!&nbsp\;&nbsp\;&nbsp\;&nbsp\;
LOCATION:EDCO Recycling & Transfer 2755 California Ave. Signal Hill\, CA 90755
UID:e.1956.2454
SEQUENCE:3
DTSTAMP:20260421T210434Z
URL:https://business.lbchamber.com/events/details/edco-long-beach-area-chamber-of-commerce-network-event-05-07-2015-2454
END:VEVENT

END:VCALENDAR
