BEGIN:VCALENDAR
VERSION:2.0
PRODID:-//ChamberMaster//Event Calendar 2.0//EN
METHOD:PUBLISH
X-PUBLISHED-TTL:P3D
REFRESH-INTERVAL:P3D
CALSCALE:GREGORIAN
BEGIN:VEVENT
DTSTART:20180427T010000Z
DTEND:20180427T040000Z
X-MICROSOFT-CDO-ALLDAYEVENT:FALSE
SUMMARY:Distinguished Citizen Dinner 2018
DESCRIPTION:The Distinguished Citizen Dinner (DCD) recognizes community leaders who exemplify the Scout Oath and Law in their everyday lives\, in their workplace\, and in their spheres of influence. The 2018 Honorees are: Community Partner: F&M BANK Individual: JUSTIN RUDD Proceeds from the dinner help 3\,400 youth to gain confidence\, life skills\, and leadership abilities. All youth are local to the greater Long Beach area.
X-ALT-DESC;FMTTYPE=text/html:The Distinguished Citizen Dinner (DCD) recognizes community leaders who exemplify the Scout Oath and Law in their everyday lives\, in their workplace\, and in their spheres of influence. The 2018 Honorees are: Community Partner: F&amp\;M BANK Individual: JUSTIN RUDD Proceeds from the dinner help 3\,400 youth to gain confidence\, life skills\, and leadership abilities. All youth are local to the greater Long Beach area.
LOCATION:Hotel Maya
UID:e.1956.4266
SEQUENCE:3
DTSTAMP:20260420T155059Z
URL:https://business.lbchamber.com/events/details/distinguished-citizen-dinner-2018-4266
END:VEVENT

END:VCALENDAR
