BEGIN:VCALENDAR
VERSION:2.0
PRODID:-//ChamberMaster//Event Calendar 2.0//EN
METHOD:PUBLISH
X-PUBLISHED-TTL:P3D
REFRESH-INTERVAL:P3D
CALSCALE:GREGORIAN
BEGIN:VEVENT
DTSTART:20150604T010000Z
DTEND:20150604T030000Z
X-MICROSOFT-CDO-ALLDAYEVENT:FALSE
SUMMARY:Distinguished Citizen Dinner
DESCRIPTION:The Long Beach Boy Scouts recognizes community leaders who exemplify the Scout Oath and Law in their everyday lives\, in their workplace\, and in their spheres of influence. Accepting the 2015 Good Scout of the Year will be Long Beach-based Moffatt & Nichol\, a global leader in planning and design. Proceeds benefitting over 4\,000 youth in the greater Long Beach area gain confidence\, life skills\, and leadership abilities.
X-ALT-DESC;FMTTYPE=text/html:<span style="color: rgb(31\, 73\, 125)\; font-family: Calibri\, sans-serif\; font-size: 14.6666669845581px\; line-height: normal\;">The Long Beach Boy Scouts recognizes community leaders who exemplify the Scout Oath and Law in their everyday lives\, in their workplace\, and in their spheres of influence. Accepting the 2015 Good Scout of the Year will be Long Beach-based Moffatt &amp\; Nichol\, a global leader in planning and design. Proceeds benefitting over 4\,000 youth in the greater Long Beach area gain confidence\, life skills\, and leadership abilities.</span>
LOCATION:Long Beach Arena
UID:e.1956.2445
SEQUENCE:3
DTSTAMP:20260424T023604Z
URL:https://business.lbchamber.com/events/details/distinguished-citizen-dinner-06-03-2015-2445
END:VEVENT

END:VCALENDAR
