BEGIN:VCALENDAR
VERSION:2.0
PRODID:-//ChamberMaster//Event Calendar 2.0//EN
METHOD:PUBLISH
X-PUBLISHED-TTL:P3D
REFRESH-INTERVAL:P3D
CALSCALE:GREGORIAN
BEGIN:VEVENT
DTSTART:20190517T003000Z
DTEND:20190517T040000Z
X-MICROSOFT-CDO-ALLDAYEVENT:FALSE
SUMMARY:Disabled Resources Center 43rd Annual Awards Dinner
DESCRIPTION:The Annual Awards Dinner hosts a Silent Auction\, and presents honors in three categories to community leaders for their respective work on behalf of independent living for people with disabilities. Additionally\, at the Dinner\, a deserving military veteran receives an academic scholarship\, and a DRC volunteer is recognized as the Volunteer of the Year. \n \n\nFor more information on DRC\, the 43rd Annual Awards Dinner information\, ticket and sponsorship opportunities\, please contact Disabled Resources Center - Dolores Nason (562) 427-1000 x115
X-ALT-DESC;FMTTYPE=text/html:<p class="xmsonormal"><span style="font-size:14.0pt\;font-family:&quot\;Arial&quot\;\,sans-serif\;\ncolor:black">The Annual Awards Dinner hosts a Silent Auction\, and&nbsp\;presents honors in three categories to community leaders for their respective work on behalf of independent living for people with disabilities. Additionally\, at the Dinner\, a deserving military veteran receives an academic scholarship\, and a DRC volunteer is recognized as the Volunteer of the Year. </span><o:p></o:p></p>\n&nbsp\;\n\n<p><span style="font-size:14.0pt\;font-family:&quot\;Arial&quot\;\,sans-serif\;color:black">For more information on DRC\, the 43<sup>rd</sup> Annual Awards Dinner information\, ticket and sponsorship opportunities\, please contact Disabled Resources Center - Dolores Nason (562) 427-1000 x115</span></p>\n\n<p><span style="font-size:12.0pt\;color:black"><o:p></o:p></span></p>\n<span style="color:black\;"><span style="font-family:arial\,sans-serif\;"><span style="font-size:14.0pt\;">&nbsp\;</span></span></span>
LOCATION:The Grand Event Center 4101 East Willow Street Long Beach CA 90815
UID:e.1956.4471
SEQUENCE:3
DTSTAMP:20260419T210725Z
URL:https://business.lbchamber.com/events/details/disabled-resources-center-43rd-annual-awards-dinner-4471
END:VEVENT

END:VCALENDAR
