BEGIN:VCALENDAR
VERSION:2.0
PRODID:-//ChamberMaster//Event Calendar 2.0//EN
METHOD:PUBLISH
X-PUBLISHED-TTL:P3D
REFRESH-INTERVAL:P3D
CALSCALE:GREGORIAN
BEGIN:VEVENT
DTSTART:20150210T010000Z
DTEND:20150210T060000Z
X-MICROSOFT-CDO-ALLDAYEVENT:FALSE
SUMMARY:Dinner and a Movie Night in the Queensview Steakhouse
DESCRIPTION:Give your wine loving Valentine a BIG surprise with our first "Movie Night" in the Queensview Steakhouse. Join us for a four course dinner\, then enjoy watching a movie all about the love of winemaking. Love will be in the air in the Queensview Steakhouse\, Monday February 9th! Reception from 5:00-6:00pm\, Dinner and Movie following. $85 per person*. Call (562) 432-6500 to make your reservations. *Reception and after dinner drinks not included. THE MENU: Appetizer Course: Seared Scallop Acini di Pepe ? Citrus Gastrique Paired with blind tasting wines Soup course: Cauliflower soup with herb oil Chateau Montelena Chardonnay Main course: Peppercorn crusted lamb lollipops served with haricots verts and roasted fingerling potatoes Chateau de Sours Bordeaux / Smith and Hook Cabernet Sauvignon Dessert Course: Chocolate Covered Strawberries Joel Gott Zinfandel
X-ALT-DESC;FMTTYPE=text/html:Give your wine loving Valentine a BIG surprise with our first &quot\;Movie Night&quot\; in the Queensview Steakhouse. Join us for a four course dinner\, then enjoy watching a movie all about the love of winemaking. Love will be in the air in the Queensview Steakhouse\, Monday February 9th! Reception from 5:00-6:00pm\, Dinner and Movie following. $85 per person*. Call (562) 432-6500 to make your reservations. *Reception and after dinner drinks not included. THE MENU: Appetizer Course: Seared Scallop Acini di Pepe ? Citrus Gastrique Paired with blind tasting wines Soup course: Cauliflower soup with herb oil Chateau Montelena Chardonnay Main course: Peppercorn crusted lamb lollipops served with haricots verts and roasted fingerling potatoes Chateau de Sours Bordeaux / Smith and Hook Cabernet Sauvignon Dessert Course: Chocolate Covered Strawberries Joel Gott Zinfandel
LOCATION:Parkers' Lighthouse & Queensview Steakhouse 435 Shoreline Village Dr\, Long Beach\, California 90802
UID:e.1956.2404
SEQUENCE:3
DTSTAMP:20260424T071732Z
URL:https://business.lbchamber.com/events/details/dinner-and-a-movie-night-in-the-queensview-steakhouse-02-09-2015-2404
END:VEVENT

END:VCALENDAR
