BEGIN:VCALENDAR
VERSION:2.0
PRODID:-//ChamberMaster//Event Calendar 2.0//EN
METHOD:PUBLISH
X-PUBLISHED-TTL:P3D
REFRESH-INTERVAL:P3D
CALSCALE:GREGORIAN
BEGIN:VEVENT
DTSTART:20200917T180000Z
DTEND:20200917T200000Z
X-MICROSOFT-CDO-ALLDAYEVENT:FALSE
SUMMARY:Developing A Plan To Start (or Recover) Your Business In Today’s Unusual Times
DESCRIPTION:Having a focused business plan has never proven so important. Successful business planning leads to successful business results\, and the ability to change course when all around you is also changing. This workshop will cover all aspects of creating a business plan\, as well as emphasize the importance of setting measurable strategies and tactics to help achieve these goals.\n\n\n\nIn this interactive seminar\, you will learn how to:\n\n\n\n-Break apart components of the business plan into manageable steps.\n\n-Define your business succinctly.\n\n-Research your competition and target market.\n\n-Develop your operating and marketing plans.\n\n-Start understanding your financial statements.
X-ALT-DESC;FMTTYPE=text/html:<span style="background:white\;"><span style="color:#232333\;"><span style="font-size:10.5pt\;">Having a focused business plan has never proven so important. Successful business planning leads to successful business results\, and the ability to change course when all around you is also changing. This workshop will cover all aspects of creating a business plan\, as well as emphasize the importance of setting measurable strategies and tactics to help achieve these goals.<br />\n<br />\n<strong>In this interactive seminar\, you will learn how to:</strong></span></span></span><br />\n<br />\n<span style="color:#232333\;"><span style="font-size:10.5pt\;"><span style="background:white\;">-Break apart components of the business plan into manageable steps.</span><br />\n<span style="background:white\;">-Define your business succinctly.</span><br />\n<span style="background:white\;">-Research your competition and target market.</span><br />\n<span style="background:white\;">-Develop your operating and marketing plans.</span><br />\n<span style="background:white\;">-Start understanding your financial statements.</span></span></span>
LOCATION:Webinar
UID:e.1956.4924
SEQUENCE:3
DTSTAMP:20260421T050803Z
URL:https://business.lbchamber.com/events/details/developing-a-plan-to-start-or-recover-your-business-in-today-s-unusual-times-4924
END:VEVENT

END:VCALENDAR
