BEGIN:VCALENDAR
VERSION:2.0
PRODID:-//ChamberMaster//Event Calendar 2.0//EN
METHOD:PUBLISH
X-PUBLISHED-TTL:P3D
REFRESH-INTERVAL:P3D
CALSCALE:GREGORIAN
BEGIN:VEVENT
DTSTART:20140731T150000Z
DTEND:20140801T000000Z
X-MICROSOFT-CDO-ALLDAYEVENT:FALSE
SUMMARY:Dentistry From The Heart
DESCRIPTION:We are a pediatric dental office in Long Beach\, CA. On July 31\, 2014 we will be holding a Free Dentistry "Dentistry From The Heart" event in our office. We will be providing free dental services for children in our community who are low income\, minority\, uninsured\, or who would otherwise not be able to afford dental services. We will like to ask for your help to spread the word about our event and news coverage about our event for the community to either help us with donations or attend if they need services for their children.
X-ALT-DESC;FMTTYPE=text/html:We are a pediatric dental office in Long Beach\, CA. On July 31\, 2014 we will be holding a Free Dentistry &quot\;Dentistry From The Heart&quot\; event in our office. We will be providing free dental services for children in our community who are low income\, minority\, uninsured\, or who would otherwise not be able to afford dental services. We will like to ask for your help to spread the word about our event and news coverage about our event for the community to either help us with donations or attend if they need services for their children.
LOCATION:FUNtastic Dental and Orthodontics 2700 N. Bellflower Blvd. Suite 217 Long Beach\, CA 90815
UID:e.1956.1248
SEQUENCE:3
DTSTAMP:20260424T170805Z
URL:https://business.lbchamber.com/events/details/dentistry-from-the-heart-07-31-2014-1248
END:VEVENT

END:VCALENDAR
