BEGIN:VCALENDAR
VERSION:2.0
PRODID:-//ChamberMaster//Event Calendar 2.0//EN
METHOD:PUBLISH
X-PUBLISHED-TTL:P3D
REFRESH-INTERVAL:P3D
CALSCALE:GREGORIAN
BEGIN:VEVENT
DTSTART:20150509T020000Z
DTEND:20150509T040000Z
X-MICROSOFT-CDO-ALLDAYEVENT:FALSE
SUMMARY:CSULB 27th Annual Campus Couture Fashion Show
DESCRIPTION:The CSULB 27th Annual Campus Couture Fashion Show will take place on Friday May 8\, 2015 at 7 p.m. at the CSULB Carpenter Performing Arts Center at 6200 E Atherton St\, Long Beach\, CA 90815. General admission is $22.50 and can be purchased at our website URL. The Campus Couture Fashion Show is considered the largest student-run fashion event on the West Coast entirely run by students who plan and execute the show. The show features the original designs of the senior designers who each showcase their six-to-eight piece collection crafted throughout the fall and spring semesters. The junior design class will also have the opportunity to present one of their garments. The event allows the entire fashion department to work together as the design students create the garments while merchandising students participate in the leadership\, fundraising\, and production of the show. The featured garments are original designs shown on models selected through numerous model auditions.
X-ALT-DESC;FMTTYPE=text/html:The CSULB 27th Annual Campus Couture Fashion Show will take place on Friday May 8\, 2015 at 7 p.m. at the CSULB Carpenter Performing Arts Center at 6200 E Atherton St\, Long Beach\, CA 90815. General admission is $22.50 and can be purchased at our website URL. The Campus Couture Fashion Show is considered the largest student-run fashion event on the West Coast entirely run by students who plan and execute the show. The show features the original designs of the senior designers who each showcase their six-to-eight piece collection crafted throughout the fall and spring semesters. The junior design class will also have the opportunity to present one of their garments. The event allows the entire fashion department to work together as the design students create the garments while merchandising students participate in the leadership\, fundraising\, and production of the show. The featured garments are original designs shown on models selected through numerous model auditions.
LOCATION:CSULB Carpenter Performing Arts Center at 6200 E Atherton St\, Long Beach\, CA 90815
UID:e.1956.2435
SEQUENCE:3
DTSTAMP:20260424T033709Z
URL:https://business.lbchamber.com/events/details/csulb-27th-annual-campus-couture-fashion-show-05-08-2015-2435
END:VEVENT

END:VCALENDAR
