BEGIN:VCALENDAR
VERSION:2.0
PRODID:-//ChamberMaster//Event Calendar 2.0//EN
METHOD:PUBLISH
X-PUBLISHED-TTL:P3D
REFRESH-INTERVAL:P3D
CALSCALE:GREGORIAN
BEGIN:VEVENT
DTSTART:20180414T190000Z
DTEND:20180415T000000Z
X-MICROSOFT-CDO-ALLDAYEVENT:FALSE
SUMMARY:Cross-Pollination
DESCRIPTION:a nature-inspired pop-up market -- ceramics\, plants/succulents\, jewelry
X-ALT-DESC;FMTTYPE=text/html:a nature-inspired pop-up market -- ceramics\, plants/succulents\, jewelry
LOCATION:Urban Americana 1345 Coronado Long Beach 90804
UID:e.1956.4289
SEQUENCE:3
DTSTAMP:20260420T155027Z
URL:https://business.lbchamber.com/events/details/cross-pollination-4289
END:VEVENT

END:VCALENDAR
