BEGIN:VCALENDAR
VERSION:2.0
PRODID:-//ChamberMaster//Event Calendar 2.0//EN
METHOD:PUBLISH
X-PUBLISHED-TTL:P3D
REFRESH-INTERVAL:P3D
CALSCALE:GREGORIAN
BEGIN:VEVENT
DTSTART:20140914T203000Z
DTEND:20140914T223000Z
X-MICROSOFT-CDO-ALLDAYEVENT:FALSE
SUMMARY:CONVERSATIONS IN PLACE: Why Should Our Future Cling to the Past?
DESCRIPTION:A discussion at Rancho Los Alamitos with nationally recognized futurist and syndicated columnist Joel Kotkin\, international advertising executive Julia Huang and bestselling author and editor Gustavo Arellano will examine how the past is playing a strategic and important role in shaping the Southern California of tomorrow at Conversations in Place: Why Should Our Future Cling to the Past? on September 14 from 1:30 to 3:30 p.m. Rancho Los Alamitos is located at 6400 Bixby Hill Road in Long Beach adjacent to CSULB. Tickets cost $25 and $10 for students with current student ID and may be obtained online at rancholosalamitos.org or by calling 562.431.3541.
X-ALT-DESC;FMTTYPE=text/html:A discussion at Rancho Los Alamitos with nationally recognized futurist and syndicated columnist Joel Kotkin\, international advertising executive Julia Huang and bestselling author and editor Gustavo Arellano will examine how the past is playing a strategic and important role in shaping the Southern California of tomorrow at Conversations in Place: Why Should Our Future Cling to the Past? on September 14 from 1:30 to 3:30 p.m. Rancho Los Alamitos is located at 6400 Bixby Hill Road in Long Beach adjacent to CSULB. Tickets cost $25 and $10 for students with current student ID and may be obtained online at rancholosalamitos.org or by calling 562.431.3541.
LOCATION:Rancho Los Alamitos Historic Ranch and Gardens
UID:e.1956.2287
SEQUENCE:3
DTSTAMP:20260424T142327Z
URL:https://business.lbchamber.com/events/details/conversations-in-place-why-should-our-future-cling-to-the-past-09-14-2014-2287
END:VEVENT

END:VCALENDAR
