BEGIN:VCALENDAR
VERSION:2.0
PRODID:-//ChamberMaster//Event Calendar 2.0//EN
METHOD:PUBLISH
X-PUBLISHED-TTL:P3D
REFRESH-INTERVAL:P3D
CALSCALE:GREGORIAN
BEGIN:VEVENT
DTSTART:20150927T203000Z
DTEND:20150927T223000Z
X-MICROSOFT-CDO-ALLDAYEVENT:FALSE
SUMMARY:Conversations in Place 2015 "Planting Perspectives"
DESCRIPTION:Conversations in Place 2015 resumes at Rancho Los Alamitos with the second of its four-part series Planting Perspectives featuring James P. Folsom\, Telleen/Jorgensen Director of the Huntington Botanical Gardens and Pierrette Hondagneu-Sotelo\, professor of Sociology at USC and author of Paradise Transplanted: Migration and the Making of California Gardens. Folsom and Hondagneu-Sotelo will be joined in conversation with Laura Pulido\, Professor of American Studies and Ethnicity at USC\, Karen Quintiliani\, Chairman\, CSULB Dept. of Anthropology and co-founder of the Cambodian Community History and Archive Project which documents the Long Beach Cambodian Community\, the largest outside Southeast Asia\, and Claudia Jurmain\, Moderator\, Director of Special Projects & Publications\, Rancho Los Alamitos. The Conversation will consider the interplay of economics\, power and prestige\, inequality\, access and opportunity\, and changing cultural and natural values in the landscapes of Southern California   in private backyards\, in grand estates\, in public places\, and in the kitchen gardens of marginalized immigrants.\n\n\n\nParking for the event will be at California State University\, Long Beach Lot 11A\, enter at "CSULB PRKG" off of Palo Verde Avenue\, between Atherton and University Drive. Parking and continuous handicap accessible shuttle service to and from the Rancho are free of charge.
X-ALT-DESC;FMTTYPE=text/html:Conversations in Place 2015 resumes at Rancho Los Alamitos with the second of its four-part series Planting Perspectives featuring James P. Folsom\, Telleen/Jorgensen Director of the Huntington Botanical Gardens and Pierrette Hondagneu-Sotelo\, professor of Sociology at USC and author of Paradise Transplanted: Migration and the Making of California Gardens. Folsom and Hondagneu-Sotelo will be joined in conversation with Laura Pulido\, Professor of American Studies and Ethnicity at USC\, Karen Quintiliani\, Chairman\, CSULB Dept. of Anthropology and co-founder of the Cambodian Community History and Archive Project which documents the Long Beach Cambodian Community\, the largest outside Southeast Asia\, and Claudia Jurmain\, Moderator\, Director of Special Projects &amp\; Publications\, Rancho Los Alamitos. The Conversation will consider the interplay of economics\, power and prestige\, inequality\, access and opportunity\, and changing cultural and natural values in the landscapes of Southern California &ndash\; in private backyards\, in grand estates\, in public places\, and in the kitchen gardens of marginalized immigrants.<br />\n<br />\nParking for the event will be at California State University\, Long Beach Lot 11A\, enter at &quot\;CSULB PRKG&quot\; off of Palo Verde Avenue\, between Atherton and University Drive. Parking and continuous handicap accessible shuttle service to and from the Rancho are free of charge.
LOCATION:Rancho Los Alamitos Historic Ranch and Gardens 6400 E. Bixby Hill Road Long Beach\, CA 90815
UID:e.1956.2475
SEQUENCE:3
DTSTAMP:20260423T234137Z
URL:https://business.lbchamber.com/events/details/conversations-in-place-2015-planting-perspectives-09-27-2015-2475
END:VEVENT

END:VCALENDAR
