BEGIN:VCALENDAR
VERSION:2.0
PRODID:-//ChamberMaster//Event Calendar 2.0//EN
METHOD:PUBLISH
X-PUBLISHED-TTL:P3D
REFRESH-INTERVAL:P3D
CALSCALE:GREGORIAN
BEGIN:VEVENT
DTSTART:20260606T180000Z
DTEND:20260606T200000Z
X-MICROSOFT-CDO-ALLDAYEVENT:FALSE
SUMMARY:Confluence Rising: Love Day
DESCRIPTION:Event Details: Saturday\, June 6th from 11:00AM - 1:00PM Confluence Rising Office in Long Beach\, CA\n\n\n\nJune holds deep significance for various expressions of love and unity. Pride Month is a time to honor and celebrate LGBTQIA+ individuals and their relationships. Loving Day on June 12th commemorates the landmark Supreme Court decision in Loving v. Virginia\, which legalized interracial marriage in the United States in 1967. Love Day will bring together our community for a fun-filled day focused on the power of love to drive positive change. \n\n\n\nRSVP BY 6/1 - https://forms.gle/AtQgoWecZDTCqRxP6
X-ALT-DESC;FMTTYPE=text/html:Event Details: Saturday\, June 6th from 11:00AM - 1:00PM Confluence Rising Office in Long Beach\, CA<br />\n<br />\nJune holds deep significance for various expressions of love and unity. Pride Month is a time to honor and celebrate LGBTQIA+ individuals and their relationships. Loving Day on June 12th commemorates the landmark Supreme Court decision in Loving v. Virginia\, which legalized interracial marriage in the United States in 1967. Love Day will bring together our community for a fun-filled day focused on the power of love to drive positive change.&nbsp\;<br />\n<br />\nRSVP BY 6/1 -&nbsp\;https://forms.gle/AtQgoWecZDTCqRxP6
LOCATION:3605 Long Beach Blvd Suite 100\, Long Beach\, CA 90807
UID:e.1956.8589
SEQUENCE:3
DTSTAMP:20260423T231049Z
URL:https://business.lbchamber.com/events/details/confluence-rising-love-day-8589
END:VEVENT

END:VCALENDAR
