BEGIN:VCALENDAR
VERSION:2.0
PRODID:-//ChamberMaster//Event Calendar 2.0//EN
METHOD:PUBLISH
X-PUBLISHED-TTL:P3D
REFRESH-INTERVAL:P3D
CALSCALE:GREGORIAN
BEGIN:VEVENT
DTSTART:20141012T000000Z
DTEND:20141012T030000Z
X-MICROSOFT-CDO-ALLDAYEVENT:FALSE
SUMMARY:Comprehensive Child Development's 30th Anniversary Reception
DESCRIPTION:Comprehensive Child Development\, Inc. is pleased to celebrate its 30th Anniversary of providing high quality Early Childhood Education and Care for disadvantaged children and families in our community. To mark this milestone\, we will be holding a 30th Anniversary Reception at Keesal\, Young & Logan on October 11th\, 2014. This reception will include special honors given to local community members and the presentation of the Lifetime Achievement Award for Tammie Kyle\, Executive Director\, celebrating 30 years of serving Comprehensive Child Development and over 50 years in the child development field.
X-ALT-DESC;FMTTYPE=text/html:Comprehensive Child Development\, Inc. is pleased to celebrate its 30th Anniversary of providing high quality Early Childhood Education and Care for disadvantaged children and families in our community. To mark this milestone\, we will be holding a 30th Anniversary Reception at Keesal\, Young &amp\; Logan on October 11th\, 2014. This reception will include special honors given to local community members and the presentation of the Lifetime Achievement Award for Tammie Kyle\, Executive Director\, celebrating 30 years of serving Comprehensive Child Development and over 50 years in the child development field.
LOCATION:Keesal\, Young & Logan 400 Oceangate Long Beach\, CA 90802
UID:e.1956.2294
SEQUENCE:3
DTSTAMP:20260424T125255Z
URL:https://business.lbchamber.com/events/details/comprehensive-child-development-s-30th-anniversary-reception-10-11-2014-2294
END:VEVENT

END:VCALENDAR
