BEGIN:VCALENDAR
VERSION:2.0
PRODID:-//ChamberMaster//Event Calendar 2.0//EN
METHOD:PUBLISH
X-PUBLISHED-TTL:P3D
REFRESH-INTERVAL:P3D
CALSCALE:GREGORIAN
BEGIN:VEVENT
DTSTART:20150624T160000Z
DTEND:20150624T180000Z
X-MICROSOFT-CDO-ALLDAYEVENT:FALSE
SUMMARY:Community Open House
DESCRIPTION:YOUR INPUT IS NEEDED ? Help Plan the Future of Los Angeles County. All residents are invited to take part in an Open House for the 2016-2040 Regional Transportation Plan/Sustainable Communities Strategy to share concerns about the challenges facing our community\, such as: Traffic & Congestion\, Housing\, Air Quality & Green Spaces\, Public Health\, Jobs & the Economy. Register www.scagrtpscs.net or (213) 236-1800. MARK YOUR CALENDAR & PLAN TO ATTEND THE OPEN HOUSE.
X-ALT-DESC;FMTTYPE=text/html:YOUR INPUT IS NEEDED ? Help Plan the Future of Los Angeles County. All residents are invited to take part in an Open House for the 2016-2040 Regional Transportation Plan/Sustainable Communities Strategy to share concerns about the challenges facing our community\, such as: Traffic &amp\; Congestion\, Housing\, Air Quality &amp\; Green Spaces\, Public Health\, Jobs &amp\; the Economy. Register www.scagrtpscs.net or (213) 236-1800. MARK YOUR CALENDAR &amp\; PLAN TO ATTEND THE OPEN HOUSE.
LOCATION:Carson Community Center 801 East Carson Street Carson\, CA 90745
UID:e.1956.2464
SEQUENCE:3
DTSTAMP:20260424T024531Z
URL:https://business.lbchamber.com/events/details/community-open-house-06-24-2015-2464
END:VEVENT

END:VCALENDAR
