BEGIN:VCALENDAR
VERSION:2.0
PRODID:-//ChamberMaster//Event Calendar 2.0//EN
METHOD:PUBLISH
X-PUBLISHED-TTL:P3D
REFRESH-INTERVAL:P3D
CALSCALE:GREGORIAN
BEGIN:VEVENT
DTSTART;VALUE=DATE:20140530
DTEND;VALUE=DATE:20140531
TRANSP:TRANSPARENT
X-MICROSOFT-CDO-ALLDAYEVENT:TRUE
SUMMARY:Community Hospital Long Beach 32nd Annual Golf Tournament
DESCRIPTION:
X-ALT-DESC;FMTTYPE=text/html:
LOCATION:
UID:e.1956.1220
SEQUENCE:3
DTSTAMP:20260424T194748Z
URL:https://business.lbchamber.com/events/details/community-hospital-long-beach-32nd-annual-golf-tournament-05-30-2014-1220
END:VEVENT

END:VCALENDAR
