BEGIN:VCALENDAR
VERSION:2.0
PRODID:-//ChamberMaster//Event Calendar 2.0//EN
METHOD:PUBLISH
X-PUBLISHED-TTL:P3D
REFRESH-INTERVAL:P3D
CALSCALE:GREGORIAN
BEGIN:VEVENT
DTSTART:20190413T160000Z
DTEND:20190414T230000Z
X-MICROSOFT-CDO-ALLDAYEVENT:FALSE
SUMMARY:Color Your World Quilt Show and sale
DESCRIPTION:We are a non-profit group who supports local Long Beach charities with over 400 quilts per year. We are having our biannual quilt show at the EXPO Arts Center. Over 150 quilts will be shown and there will be quilts for sale\, a handmade boutique\, opportunity baskets\, vendors\, Bed Turning\, and a Jelly Roll race on Sunday.
X-ALT-DESC;FMTTYPE=text/html:We are a non-profit group who supports local Long Beach charities with over 400 quilts per year. We are having our biannual quilt show at the EXPO Arts Center. Over 150 quilts will be shown and there will be quilts for sale\, a handmade boutique\, opportunity baskets\, vendors\, Bed Turning\, and a Jelly Roll race on Sunday.
LOCATION:EXPO ARTS Center\, 4321 Atlantic ave\, Long Beach\, CA 90807
UID:e.1956.4442
SEQUENCE:3
DTSTAMP:20260419T224908Z
URL:https://business.lbchamber.com/events/details/color-your-world-quilt-show-and-sale-4442
END:VEVENT

END:VCALENDAR
