BEGIN:VCALENDAR
VERSION:2.0
PRODID:-//ChamberMaster//Event Calendar 2.0//EN
METHOD:PUBLISH
X-PUBLISHED-TTL:P3D
REFRESH-INTERVAL:P3D
CALSCALE:GREGORIAN
BEGIN:VEVENT
DTSTART:20181102T023000Z
DTEND:20181113T053000Z
X-MICROSOFT-CDO-ALLDAYEVENT:FALSE
SUMMARY:Circus Vargas
DESCRIPTION:The Big One is Back! Circus Vargas delivers nonstop thrills guaranteed to enchant Children of all Ages! Death- Defying Acrobats\, Daredevils\, Flying Trapeze Artists\, Jugglers\, Contortionists\, Clowns\, Motorcycles and much\, much\, more! Always fun for the entire family! Join Us for a swashbuckling circus spectacular and discover a world of pure circus magic under the Big Top\, where memories are made and cherished for a lifetime! Circus Vargas' Dreaming of pirates  A true circus treasure! For more information and to purchase tickets visit www.circusvargas.com or call 877-GOTFUN-1. (877-468-3861) Lakewood Center Mall 500 Lakewood Center Mall Lakewood\, CA 90712 Thursday November 1st 7:30 pm Friday November 2nd 4:30 pm\, 7:30 pm Saturday November 3rd 1:00 pm\, 4:00 pm\, 7:30 pm Sunday November 4th 12:30 pm\, 3:30 pm\, 7:00 pm Monday November 5th 6:30 pm Wednesday November 7th 7:00 pm Thursday November 8th 7:00 pm Friday November 9th 4:30 pm\, 7:30 pm Saturday November 10th 1:00 pm\, 4:00 pm\, 7:30 pm Sunday November 11th 12:30 pm\, 3:30 pm\, 7:00 pm Monday November 12th 6:30 pm Tickets: $15.00 - $72.00 Main Link: http://www.circusvargas.com/ Vargas Story: https://www.youtube.com/watch?v=ZuGy6gcR88M 2018 Video: https://www.youtube.com/watch?time_continue=2&v=GneL7-q3M5c Facebook: https://www.facebook.com/CircusVargas Ticket Link: http://www.circusvargas.com/tickets.html
X-ALT-DESC;FMTTYPE=text/html:The Big One is Back! Circus Vargas delivers nonstop thrills guaranteed to enchant Children of all Ages! Death- Defying Acrobats\, Daredevils\, Flying Trapeze Artists\, Jugglers\, Contortionists\, Clowns\, Motorcycles and much\, much\, more! Always fun for the entire family! Join Us for a swashbuckling circus spectacular and discover a world of pure circus magic under the Big Top\, where memories are made and cherished for a lifetime! Circus Vargas&rsquo\; Dreaming of pirates&hellip\; A true circus treasure! For more information and to purchase tickets visit www.circusvargas.com or call 877-GOTFUN-1. (877-468-3861) Lakewood Center Mall 500 Lakewood Center Mall Lakewood\, CA 90712 Thursday November 1st 7:30 pm Friday November 2nd 4:30 pm\, 7:30 pm Saturday November 3rd 1:00 pm\, 4:00 pm\, 7:30 pm Sunday November 4th 12:30 pm\, 3:30 pm\, 7:00 pm Monday November 5th 6:30 pm Wednesday November 7th 7:00 pm Thursday November 8th 7:00 pm Friday November 9th 4:30 pm\, 7:30 pm Saturday November 10th 1:00 pm\, 4:00 pm\, 7:30 pm Sunday November 11th 12:30 pm\, 3:30 pm\, 7:00 pm Monday November 12th 6:30 pm Tickets: $15.00 - $72.00 Main Link: http://www.circusvargas.com/ Vargas Story: https://www.youtube.com/watch?v=ZuGy6gcR88M 2018 Video: https://www.youtube.com/watch?time_continue=2&amp\;v=GneL7-q3M5c Facebook: https://www.facebook.com/CircusVargas Ticket Link: http://www.circusvargas.com/tickets.html
LOCATION:Lakewood Center Mall 500 Lakewood Center Mall Lakewood\, CA 90712
UID:e.1956.4381
SEQUENCE:3
DTSTAMP:20260420T055953Z
URL:https://business.lbchamber.com/events/details/circus-vargas-4381
END:VEVENT

END:VCALENDAR
