BEGIN:VCALENDAR
VERSION:2.0
PRODID:-//ChamberMaster//Event Calendar 2.0//EN
METHOD:PUBLISH
X-PUBLISHED-TTL:P3D
REFRESH-INTERVAL:P3D
CALSCALE:GREGORIAN
BEGIN:VEVENT
DTSTART:20190308T023000Z
DTEND:20190308T040000Z
X-MICROSOFT-CDO-ALLDAYEVENT:FALSE
SUMMARY:Chrome! Exhibit Closing — “Cruisin’: History & Stories” With historian\, Craig Hendricks & actress\, Lucy Daggett
DESCRIPTION:Exhibit Closing   "Cruisin': History & Stories" With historian\, Craig Hendricks & actress\, Lucy Daggett Thursday\, March 7\, 2019\, 6:30pm   8pm 4260 Atlantic Ave. $35 for members/$40 for non-members
X-ALT-DESC;FMTTYPE=text/html:Exhibit Closing &mdash\; &ldquo\;Cruisin&rsquo\;: History &amp\; Stories&rdquo\; With historian\, Craig Hendricks &amp\; actress\, Lucy Daggett Thursday\, March 7\, 2019\, 6:30pm &ndash\; 8pm 4260 Atlantic Ave. $35 for members/$40 for non-members
LOCATION:4260 Atlantic Ave. Long Beach\, Ca 90807
UID:e.1956.4400
SEQUENCE:3
DTSTAMP:20260420T000551Z
URL:https://business.lbchamber.com/events/details/chrome-exhibit-closing-cruisin-history-stories-with-historian-craig-hendricks-actress-lucy-daggett-4400
END:VEVENT

END:VCALENDAR
