BEGIN:VCALENDAR
VERSION:2.0
PRODID:-//ChamberMaster//Event Calendar 2.0//EN
METHOD:PUBLISH
X-PUBLISHED-TTL:P3D
REFRESH-INTERVAL:P3D
CALSCALE:GREGORIAN
BEGIN:VEVENT
DTSTART:20181007T220000Z
DTEND:20181008T000000Z
X-MICROSOFT-CDO-ALLDAYEVENT:FALSE
SUMMARY:Christmas Cantata
DESCRIPTION:The music of gracias choir and orchestra is always inspied by the love and thankfulness of each choir member.Gracias has the unique ability to plant joy in everyone's hearts. The Gracias Christmas Cantata is a show-shopping musical event that has been performed in venues like the Sydney opera house and madison square graden\,as well as many other stages around the world.
X-ALT-DESC;FMTTYPE=text/html:The music of gracias choir and orchestra is always inspied by the love and thankfulness of each choir member.Gracias has the unique ability to plant joy in everyone&rsquo\;s hearts. The Gracias Christmas Cantata is a show-shopping musical event that has been performed in venues like the Sydney opera house and madison square graden\,as well as many other stages around the world.
LOCATION:Terrace Theater 300 E Ocean Blvd Long Beach ca 90802
UID:e.1956.4355
SEQUENCE:3
DTSTAMP:20260420T072507Z
URL:https://business.lbchamber.com/events/details/christmas-cantata-4355
END:VEVENT

END:VCALENDAR
