BEGIN:VCALENDAR
VERSION:2.0
PRODID:-//ChamberMaster//Event Calendar 2.0//EN
METHOD:PUBLISH
X-PUBLISHED-TTL:P3D
REFRESH-INTERVAL:P3D
CALSCALE:GREGORIAN
BEGIN:VEVENT
DTSTART:20140928T200000Z
DTEND:20140929T000000Z
X-MICROSOFT-CDO-ALLDAYEVENT:FALSE
SUMMARY:ChildNet Youth and Family Services Family Festival Fundrasier
DESCRIPTION:ChildNet is proud to feature the music of Andy & Renee with Hard Rain to present the theme "Rockin' '70's   Fun'n the Sun". Along with this award winning band\, the festival will include tastings from a limited group of premier local Long Beach restaurants\, a vintage car show\, and special activities for kids. Proceeds will benefit ChildNet programs\, which provide needed services to at-risk youth and families. For more information visit our website at www.childnet.net
X-ALT-DESC;FMTTYPE=text/html:ChildNet is proud to feature the music of Andy &amp\; Renee with Hard Rain to present the theme<strong> &ldquo\;Rockin&rsquo\; &lsquo\;70&rsquo\;s &ndash\; Fun&rsquo\;n the Sun&rdquo\;</strong>. Along with this award winning band\, the festival will include tastings from a limited group of premier local Long Beach restaurants\, a vintage car show\, and special activities for kids. Proceeds will benefit ChildNet programs\, which provide needed services to at-risk youth and families. For more information visit our website at www.childnet.net
LOCATION:4155 Outer Traffic Circle Long Beach CA 90804
UID:e.1956.1278
SEQUENCE:3
DTSTAMP:20260424T141558Z
URL:https://business.lbchamber.com/events/details/childnet-youth-and-family-services-family-festival-fundrasier-09-28-2014-1278
END:VEVENT

END:VCALENDAR
