BEGIN:VCALENDAR
VERSION:2.0
PRODID:-//ChamberMaster//Event Calendar 2.0//EN
METHOD:PUBLISH
X-PUBLISHED-TTL:P3D
REFRESH-INTERVAL:P3D
CALSCALE:GREGORIAN
BEGIN:VEVENT
DTSTART:20180511T003000Z
DTEND:20180511T033000Z
X-MICROSOFT-CDO-ALLDAYEVENT:FALSE
SUMMARY:ChildNet's Shining Star Awards
DESCRIPTION:You are cordially invited to attend ChildNet's Shining Star Awards dinner benefitting our various programs. This amazing evening will feature a spectacular dining experience\, each course paired with a premier wine. Come help us honor this years awardees!
X-ALT-DESC;FMTTYPE=text/html:You are cordially invited to attend ChildNet&#39\;s Shining Star Awards dinner benefitting our various programs. This amazing evening will feature a spectacular dining experience\, each course paired with a premier wine. Come help us honor this years awardees!
LOCATION:The Reef - 880 S. Harbor Scenic Drive. Long Beach\, CA 90802
UID:e.1956.4253
SEQUENCE:3
DTSTAMP:20260420T143148Z
URL:https://business.lbchamber.com/events/details/childnet-s-shining-star-awards-4253
END:VEVENT

END:VCALENDAR
