BEGIN:VCALENDAR
VERSION:2.0
PRODID:-//ChamberMaster//Event Calendar 2.0//EN
METHOD:PUBLISH
X-PUBLISHED-TTL:P3D
REFRESH-INTERVAL:P3D
CALSCALE:GREGORIAN
BEGIN:VEVENT
DTSTART:20190201T030000Z
DTEND:20190201T060000Z
X-MICROSOFT-CDO-ALLDAYEVENT:FALSE
SUMMARY:Center of Gravity Community Social
DESCRIPTION:Did you hear? We're hosting our first Center of Gravity Community Social of the year next week   once again convening the most engaged innovators and entrepreneurs in the Long Beach area for an evening of mingling\, live music\, and libations   and you're invited! WHO Founders\, entrepreneurs\, small business owners\, investors\, ecosystem partners\, changemakers\, placemakers\, innovators\, influencers\, and YOU! WHEN Thursday\, January 31\, 2019\, 7-10pm WHERE Ironfire | coworking space 4195 N Viking Way in Long Beach (90808) Free to attend and open to all who share our vision of creating a center of gravity for local innovation and entrepreneurship. Enjoy live\, acoustic music\, beer & wine\, refreshments\, chance encounters\, and fruitful conversations in our inspiring\, modern industrial digs. Let the busy minds unwind! In case you need a few more reasons to attend...   Get involved in our local startup ecosystem   Make new friends and grow your personal network   Share ideas and gain invaluable community feedback   Learn about ongoing educational workshops and events   Find out how to access mentors and capital at no cost   Tell everyone what you're working on right now   Enjoy good company over drinks and live music   Celebrate one year since Ironfire's grand opening! There's plenty of free parking on site and blazing-fast WiFi for all\, so come on out and bring a friend. We look forward to hosting you! The Ironfire Team Josh / Sydney / Ciaran / Vanessa
X-ALT-DESC;FMTTYPE=text/html:Did you hear? We&#39\;re hosting our first Center of Gravity Community Social of the year next week &mdash\; once again convening the most engaged innovators and entrepreneurs in the Long Beach area for an evening of mingling\, live music\, and libations &mdash\; and you&#39\;re invited! WHO Founders\, entrepreneurs\, small business owners\, investors\, ecosystem partners\, changemakers\, placemakers\, innovators\, influencers\, and YOU! WHEN Thursday\, January 31\, 2019\, 7-10pm WHERE Ironfire | coworking space 4195 N Viking Way in Long Beach (90808) Free to attend and open to all who share our vision of creating a center of gravity for local innovation and entrepreneurship. Enjoy live\, acoustic music\, beer &amp\; wine\, refreshments\, chance encounters\, and fruitful conversations in our inspiring\, modern industrial digs. Let the busy minds unwind! In case you need a few more reasons to attend... &bull\; Get involved in our local startup ecosystem &bull\; Make new friends and grow your personal network &bull\; Share ideas and gain invaluable community feedback &bull\; Learn about ongoing educational workshops and events &bull\; Find out how to access mentors and capital at no cost &bull\; Tell everyone what you&#39\;re working on right now &bull\; Enjoy good company over drinks and live music &bull\; Celebrate one year since Ironfire&#39\;s grand opening! There&#39\;s plenty of free parking on site and blazing-fast WiFi for all\, so come on out and bring a friend. We look forward to hosting you! The Ironfire Team Josh / Sydney / Ciaran / Vanessa
LOCATION:Ironfire | coworking space 4195 N Viking Way in Long Beach (90808)
UID:e.1956.4413
SEQUENCE:3
DTSTAMP:20260420T031334Z
URL:https://business.lbchamber.com/events/details/center-of-gravity-community-social-4413
END:VEVENT

END:VCALENDAR
