BEGIN:VCALENDAR
VERSION:2.0
PRODID:-//ChamberMaster//Event Calendar 2.0//EN
METHOD:PUBLISH
X-PUBLISHED-TTL:P3D
REFRESH-INTERVAL:P3D
CALSCALE:GREGORIAN
BEGIN:VEVENT
DTSTART:20241030T180000Z
DTEND:20241030T203000Z
X-MICROSOFT-CDO-ALLDAYEVENT:FALSE
SUMMARY:CCEJ's 60th Annual Humanitarian Awards Celebration
DESCRIPTION:Since 1963\, CCEJ has been honoring community leaders who have dedicated their lives and careers to promoting equity and justice in Long Beach and Southern California. Join us for our 2024 CCEJ Humanitarian Awards Celebration on Wednesday\, October 30\, 2024 at The Reef on the Water\, Long Beach from 11:00 AM - 1:30PM. This year's honorees are Dr. Rashida Crutchfield for the Humanitarian Award\, Reyna Ochoa for the Gene Lentzner Human Relations Award\, and NewGround: A Muslim-Jewish Partnership for Change for the Building Bridges Award.
X-ALT-DESC;FMTTYPE=text/html:Since 1963\, CCEJ has been honoring community leaders who have dedicated their lives and careers to promoting equity and justice in Long Beach and Southern California. Join us for our 2024 CCEJ Humanitarian Awards Celebration on Wednesday\, October 30\, 2024 at The Reef on the Water\, Long Beach from 11:00 AM - 1:30PM. This year&rsquo\;s honorees are Dr. Rashida Crutchfield for the Humanitarian Award\, Reyna Ochoa for the Gene Lentzner Human Relations Award\, and NewGround: A Muslim-Jewish Partnership for Change for the Building Bridges Award.
LOCATION:The Reef on the Water 880 S Harbor Scenic Dr\, Long Beach\, CA 90802
UID:e.1956.6160
SEQUENCE:3
DTSTAMP:20260423T172658Z
URL:https://business.lbchamber.com/events/details/ccej-s-60th-annual-humanitarian-awards-celebration-6160
END:VEVENT

END:VCALENDAR
