BEGIN:VCALENDAR
VERSION:2.0
PRODID:-//ChamberMaster//Event Calendar 2.0//EN
METHOD:PUBLISH
X-PUBLISHED-TTL:P3D
REFRESH-INTERVAL:P3D
CALSCALE:GREGORIAN
BEGIN:VEVENT
DTSTART:20190308T144500Z
DTEND:20190308T171500Z
X-MICROSOFT-CDO-ALLDAYEVENT:FALSE
SUMMARY:CCEJ 28th Annual Interfaith Intercultural Breakfast
DESCRIPTION:CCEJ's Interfaith Intercultural Breakfast is a much-anticipated annual event which brings people of all racial\, ethnic\, religious\, gender identity and cultural backgrounds together to celebrate our rich diversity and share in the vision of a truly inclusive community. We are excited to announce Christian Picciolini as this year's guest speaker\, who will be sharing his story about his former life as a member of the white supremacist movement\, and his perspective on how communities can take action to prevent hatred and intolerance. Close to 1\,000 guests are anticipated to attend this beloved community event. To sponsor the event or purchase tickets\, please visit www.cacej.org/breakfast.
X-ALT-DESC;FMTTYPE=text/html:CCEJ&#39\;s Interfaith Intercultural Breakfast is a much-anticipated annual event which brings people of all racial\, ethnic\, religious\, gender identity and cultural backgrounds together to celebrate our rich diversity and share in the vision of a truly inclusive community. We are excited to announce Christian Picciolini as this year&rsquo\;s guest speaker\, who will be sharing his story about his former life as a member of the white supremacist movement\, and his perspective on how communities can take action to prevent hatred and intolerance. Close to 1\,000 guests are anticipated to attend this beloved community event. To sponsor the event or purchase tickets\, please visit www.cacej.org/breakfast.
LOCATION:Long Beach Convention and Entertainment Center\, Grand Ballroom.
UID:e.1956.4409
SEQUENCE:3
DTSTAMP:20260420T000438Z
URL:https://business.lbchamber.com/events/details/ccej-28th-annual-interfaith-intercultural-breakfast-4409
END:VEVENT

END:VCALENDAR
