BEGIN:VCALENDAR
VERSION:2.0
PRODID:-//ChamberMaster//Event Calendar 2.0//EN
METHOD:PUBLISH
X-PUBLISHED-TTL:P3D
REFRESH-INTERVAL:P3D
CALSCALE:GREGORIAN
BEGIN:VEVENT
DTSTART:20150205T200000Z
DTEND:20150218T200000Z
X-MICROSOFT-CDO-ALLDAYEVENT:FALSE
SUMMARY:CASTING LB BUSINESSES
DESCRIPTION:HOTEL/B&B\, TRAVEL & TOURISM BUSINESSES Need $$ for upgrades\, renovations or other strategies to attract more clients and increase revenue? If you're a business owner with promising plans for your next phase of success\, we may have the funds to put those plans into action. A major cable network is teaming up with EXPERT INVESTORS to help propel your business forward. In this new spin on the "Shark Tank" model\, our investors will come to YOU. These industry and entrepreneurial heavyweights will hear your vision and carefully assess your operations and future potential. If your business promises a significant return\, you could earn a substantial financial investment. Email: InvestmentShowCasting@gmail.com with the following information: full name\, city\, phone number\, type of business\, and why your business would be a good investment. Please also include photos and website\, if available.
X-ALT-DESC;FMTTYPE=text/html:HOTEL/B&amp\;B\, TRAVEL &amp\; TOURISM BUSINESSES Need $$ for upgrades\, renovations or other strategies to attract more clients and increase revenue? If you&#39\;re a business owner with promising plans for your next phase of success\, we may have the funds to put those plans into action. A major cable network is teaming up with EXPERT INVESTORS to help propel your business forward. In this new spin on the &quot\;Shark Tank&quot\; model\, our investors will come to YOU. These industry and entrepreneurial heavyweights will hear your vision and carefully assess your operations and future potential. If your business promises a significant return\, you could earn a substantial financial investment. Email: InvestmentShowCasting@gmail.com with the following information: full name\, city\, phone number\, type of business\, and why your business would be a good investment. Please also include photos and website\, if available.
LOCATION:Los Angeles and surrounding areas.
UID:e.1956.2400
SEQUENCE:3
DTSTAMP:20260422T013619Z
URL:https://business.lbchamber.com/events/details/casting-lb-businesses-02-05-2015-2400
END:VEVENT

END:VCALENDAR
